BEGIN:VCALENDAR
VERSION:2.0
PRODID:-//Progressive M.B. Church - ECPv6.15.11//NONSGML v1.0//EN
CALSCALE:GREGORIAN
METHOD:PUBLISH
X-WR-CALNAME:Progressive M.B. Church
X-ORIGINAL-URL:http://pmbcchicago.org
X-WR-CALDESC:Events for Progressive M.B. Church
REFRESH-INTERVAL;VALUE=DURATION:PT1H
X-Robots-Tag:noindex
X-PUBLISHED-TTL:PT1H
BEGIN:VTIMEZONE
TZID:America/Chicago
BEGIN:DAYLIGHT
TZOFFSETFROM:-0600
TZOFFSETTO:-0500
TZNAME:CDT
DTSTART:20250309T080000
END:DAYLIGHT
BEGIN:STANDARD
TZOFFSETFROM:-0500
TZOFFSETTO:-0600
TZNAME:CST
DTSTART:20251102T070000
END:STANDARD
BEGIN:DAYLIGHT
TZOFFSETFROM:-0600
TZOFFSETTO:-0500
TZNAME:CDT
DTSTART:20260308T080000
END:DAYLIGHT
BEGIN:STANDARD
TZOFFSETFROM:-0500
TZOFFSETTO:-0600
TZNAME:CST
DTSTART:20261101T070000
END:STANDARD
BEGIN:DAYLIGHT
TZOFFSETFROM:-0600
TZOFFSETTO:-0500
TZNAME:CDT
DTSTART:20270314T080000
END:DAYLIGHT
BEGIN:STANDARD
TZOFFSETFROM:-0500
TZOFFSETTO:-0600
TZNAME:CST
DTSTART:20271107T070000
END:STANDARD
END:VTIMEZONE
BEGIN:VEVENT
DTSTART;TZID=America/Chicago:20260627T100000
DTEND;TZID=America/Chicago:20260627T100000
DTSTAMP:20260423T142800
CREATED:20260325T210732Z
LAST-MODIFIED:20260325T223321Z
UID:7177-1782554400-1782554400@pmbcchicago.org
SUMMARY:New Member Orientation Class
DESCRIPTION:
URL:http://pmbcchicago.org/event/new-member-orientation-class-5/
CATEGORIES:All events,Upcoming
END:VEVENT
BEGIN:VEVENT
DTSTART;TZID=America/Chicago:20260627T110000
DTEND;TZID=America/Chicago:20260627T120000
DTSTAMP:20260423T142800
CREATED:20260325T212859Z
LAST-MODIFIED:20260325T223300Z
UID:7212-1782558000-1782561600@pmbcchicago.org
SUMMARY:Boys & Girls Mentoring
DESCRIPTION:
URL:http://pmbcchicago.org/event/boys-girls-mentoring-3/
CATEGORIES:All events,Upcoming
END:VEVENT
BEGIN:VEVENT
DTSTART;TZID=America/Chicago:20260627T120000
DTEND;TZID=America/Chicago:20260627T120000
DTSTAMP:20260423T142800
CREATED:20260325T205933Z
LAST-MODIFIED:20260325T205940Z
UID:7161-1782561600-1782561600@pmbcchicago.org
SUMMARY:Baptism
DESCRIPTION:
URL:http://pmbcchicago.org/event/baptism-4/
LOCATION:Progressive MB Church\, 26 E 127th St\, Chicago\, IL\, 60628
CATEGORIES:All events,Upcoming
ATTACH;FMTTYPE=image/jpeg:http://pmbcchicago.org/wp-content/uploads/2019/09/Baptism.jpg
END:VEVENT
END:VCALENDAR