BEGIN:VCALENDAR
VERSION:2.0
PRODID:-//Progressive M.B. Church - ECPv6.15.11//NONSGML v1.0//EN
CALSCALE:GREGORIAN
METHOD:PUBLISH
X-ORIGINAL-URL:http://pmbcchicago.org
X-WR-CALDESC:Events for Progressive M.B. Church
REFRESH-INTERVAL;VALUE=DURATION:PT1H
X-Robots-Tag:noindex
X-PUBLISHED-TTL:PT1H
BEGIN:VTIMEZONE
TZID:America/Chicago
BEGIN:DAYLIGHT
TZOFFSETFROM:-0600
TZOFFSETTO:-0500
TZNAME:CDT
DTSTART:20250309T080000
END:DAYLIGHT
BEGIN:STANDARD
TZOFFSETFROM:-0500
TZOFFSETTO:-0600
TZNAME:CST
DTSTART:20251102T070000
END:STANDARD
BEGIN:DAYLIGHT
TZOFFSETFROM:-0600
TZOFFSETTO:-0500
TZNAME:CDT
DTSTART:20260308T080000
END:DAYLIGHT
BEGIN:STANDARD
TZOFFSETFROM:-0500
TZOFFSETTO:-0600
TZNAME:CST
DTSTART:20261101T070000
END:STANDARD
BEGIN:DAYLIGHT
TZOFFSETFROM:-0600
TZOFFSETTO:-0500
TZNAME:CDT
DTSTART:20270314T080000
END:DAYLIGHT
BEGIN:STANDARD
TZOFFSETFROM:-0500
TZOFFSETTO:-0600
TZNAME:CST
DTSTART:20271107T070000
END:STANDARD
END:VTIMEZONE
BEGIN:VEVENT
DTSTART;TZID=America/Chicago:20261108T110000
DTEND;TZID=America/Chicago:20261108T133000
DTSTAMP:20260423T235646
CREATED:20260325T214234Z
LAST-MODIFIED:20260325T222711Z
UID:7241-1794135600-1794144600@pmbcchicago.org
SUMMARY:Pastor's 11th Anniversary
DESCRIPTION:Join us as we celebrate our Pastor\, Rev. Warren Woods\, Jr.\, 11th Year Anniversary!
URL:http://pmbcchicago.org/event/pastors-11th-anniversary/
CATEGORIES:All events,Upcoming
END:VEVENT
END:VCALENDAR