BEGIN:VCALENDAR
VERSION:2.0
PRODID:-//Progressive M.B. Church - ECPv6.15.11//NONSGML v1.0//EN
CALSCALE:GREGORIAN
METHOD:PUBLISH
X-WR-CALNAME:Progressive M.B. Church
X-ORIGINAL-URL:http://pmbcchicago.org
X-WR-CALDESC:Events for Progressive M.B. Church
REFRESH-INTERVAL;VALUE=DURATION:PT1H
X-Robots-Tag:noindex
X-PUBLISHED-TTL:PT1H
BEGIN:VTIMEZONE
TZID:America/Chicago
BEGIN:DAYLIGHT
TZOFFSETFROM:-0600
TZOFFSETTO:-0500
TZNAME:CDT
DTSTART:20240310T080000
END:DAYLIGHT
BEGIN:STANDARD
TZOFFSETFROM:-0500
TZOFFSETTO:-0600
TZNAME:CST
DTSTART:20241103T070000
END:STANDARD
BEGIN:DAYLIGHT
TZOFFSETFROM:-0600
TZOFFSETTO:-0500
TZNAME:CDT
DTSTART:20250309T080000
END:DAYLIGHT
BEGIN:STANDARD
TZOFFSETFROM:-0500
TZOFFSETTO:-0600
TZNAME:CST
DTSTART:20251102T070000
END:STANDARD
BEGIN:DAYLIGHT
TZOFFSETFROM:-0600
TZOFFSETTO:-0500
TZNAME:CDT
DTSTART:20260308T080000
END:DAYLIGHT
BEGIN:STANDARD
TZOFFSETFROM:-0500
TZOFFSETTO:-0600
TZNAME:CST
DTSTART:20261101T070000
END:STANDARD
BEGIN:DAYLIGHT
TZOFFSETFROM:-0600
TZOFFSETTO:-0500
TZNAME:CDT
DTSTART:20270314T080000
END:DAYLIGHT
BEGIN:STANDARD
TZOFFSETFROM:-0500
TZOFFSETTO:-0600
TZNAME:CST
DTSTART:20271107T070000
END:STANDARD
END:VTIMEZONE
BEGIN:VEVENT
DTSTART;TZID=America/Chicago:20251231T190000
DTEND;TZID=America/Chicago:20251231T210000
DTSTAMP:20260423T173548
CREATED:20250825T170913Z
LAST-MODIFIED:20250825T170916Z
UID:7006-1767207600-1767214800@pmbcchicago.org
SUMMARY:New Years Eve Service
DESCRIPTION:
URL:http://pmbcchicago.org/event/new-years-eve-service-2/
END:VEVENT
BEGIN:VEVENT
DTSTART;TZID=America/Chicago:20260103T100000
DTEND;TZID=America/Chicago:20260103T120000
DTSTAMP:20260423T173548
CREATED:20251115T160441Z
LAST-MODIFIED:20251115T160454Z
UID:7147-1767434400-1767441600@pmbcchicago.org
SUMMARY:New Member Orientation Class
DESCRIPTION:
URL:http://pmbcchicago.org/event/new-member-orientation-class/
END:VEVENT
BEGIN:VEVENT
DTSTART;TZID=America/Chicago:20260131T100000
DTEND;TZID=America/Chicago:20260131T120000
DTSTAMP:20260423T173548
CREATED:20251115T160946Z
LAST-MODIFIED:20260328T162838Z
UID:7149-1769853600-1769860800@pmbcchicago.org
SUMMARY:New Member Orientation Class
DESCRIPTION:
URL:http://pmbcchicago.org/event/new-member-orientation-class-2/
CATEGORIES:All events,Upcoming
END:VEVENT
BEGIN:VEVENT
DTSTART;TZID=America/Chicago:20260131T120000
DTEND;TZID=America/Chicago:20260131T120000
DTSTAMP:20260423T173548
CREATED:20251115T161024Z
LAST-MODIFIED:20251115T161033Z
UID:7152-1769860800-1769860800@pmbcchicago.org
SUMMARY:Baptism
DESCRIPTION:
URL:http://pmbcchicago.org/event/baptism/
LOCATION:Progressive MB Church\, 26 E 127th St\, Chicago\, IL\, 60628
CATEGORIES:All events,Upcoming
ATTACH;FMTTYPE=image/jpeg:http://pmbcchicago.org/wp-content/uploads/2019/09/Baptism.jpg
END:VEVENT
BEGIN:VEVENT
DTSTART;TZID=America/Chicago:20260401T183000
DTEND;TZID=America/Chicago:20260401T190000
DTSTAMP:20260423T173548
CREATED:20260328T151251Z
LAST-MODIFIED:20260328T151251Z
UID:7277-1775068200-1775070000@pmbcchicago.org
SUMMARY:Corporate Prayer
DESCRIPTION:
URL:http://pmbcchicago.org/event/corporate-prayer-4/
CATEGORIES:All events,Upcoming
END:VEVENT
BEGIN:VEVENT
DTSTART;TZID=America/Chicago:20260401T190000
DTEND;TZID=America/Chicago:20260401T200000
DTSTAMP:20260423T173548
CREATED:20260328T150600Z
LAST-MODIFIED:20260328T150810Z
UID:7266-1775070000-1775073600@pmbcchicago.org
SUMMARY:Worship & Word Service
DESCRIPTION:
URL:http://pmbcchicago.org/event/worship-word-service/
CATEGORIES:All events,Upcoming
END:VEVENT
BEGIN:VEVENT
DTSTART;TZID=America/Chicago:20260404T100000
DTEND;TZID=America/Chicago:20260404T100000
DTSTAMP:20260423T173548
CREATED:20260325T210438Z
LAST-MODIFIED:20260325T223659Z
UID:7173-1775296800-1775296800@pmbcchicago.org
SUMMARY:New Member Orientation Class
DESCRIPTION:
URL:http://pmbcchicago.org/event/new-member-orientation-class-3/
CATEGORIES:All events,Upcoming
END:VEVENT
BEGIN:VEVENT
DTSTART;TZID=America/Chicago:20260404T120000
DTEND;TZID=America/Chicago:20260404T120000
DTSTAMP:20260423T173548
CREATED:20260325T205711Z
LAST-MODIFIED:20260325T205721Z
UID:7157-1775304000-1775304000@pmbcchicago.org
SUMMARY:Baptism
DESCRIPTION:
URL:http://pmbcchicago.org/event/baptism-2/
LOCATION:Progressive MB Church\, 26 E 127th St\, Chicago\, IL\, 60628
CATEGORIES:All events,Upcoming
ATTACH;FMTTYPE=image/jpeg:http://pmbcchicago.org/wp-content/uploads/2019/09/Baptism.jpg
END:VEVENT
BEGIN:VEVENT
DTSTART;TZID=America/Chicago:20260405T093000
DTEND;TZID=America/Chicago:20260405T103000
DTSTAMP:20260423T173548
CREATED:20260325T211915Z
LAST-MODIFIED:20260325T223630Z
UID:7193-1775381400-1775385000@pmbcchicago.org
SUMMARY:Easter Program
DESCRIPTION:Join us as we celebrate the resurrection of Christ!
URL:http://pmbcchicago.org/event/easter-program/
CATEGORIES:All events,Upcoming
END:VEVENT
BEGIN:VEVENT
DTSTART;TZID=America/Chicago:20260408T183000
DTEND;TZID=America/Chicago:20260408T190000
DTSTAMP:20260423T173548
CREATED:20260328T151316Z
LAST-MODIFIED:20260328T151316Z
UID:7279-1775673000-1775674800@pmbcchicago.org
SUMMARY:Corporate Prayer
DESCRIPTION:
URL:http://pmbcchicago.org/event/corporate-prayer-5/
CATEGORIES:All events,Upcoming
END:VEVENT
BEGIN:VEVENT
DTSTART;TZID=America/Chicago:20260408T190000
DTEND;TZID=America/Chicago:20260408T200000
DTSTAMP:20260423T173548
CREATED:20260328T150635Z
LAST-MODIFIED:20260328T150635Z
UID:7268-1775674800-1775678400@pmbcchicago.org
SUMMARY:Worship & Word Service
DESCRIPTION:
URL:http://pmbcchicago.org/event/worship-word-service-2/
CATEGORIES:All events,Upcoming
END:VEVENT
BEGIN:VEVENT
DTSTART;TZID=America/Chicago:20260415T183000
DTEND;TZID=America/Chicago:20260415T190000
DTSTAMP:20260423T173548
CREATED:20260328T151410Z
LAST-MODIFIED:20260328T151410Z
UID:7281-1776277800-1776279600@pmbcchicago.org
SUMMARY:Corporate Prayer
DESCRIPTION:
URL:http://pmbcchicago.org/event/corporate-prayer-6/
CATEGORIES:All events,Upcoming
END:VEVENT
BEGIN:VEVENT
DTSTART;TZID=America/Chicago:20260415T190000
DTEND;TZID=America/Chicago:20260415T200000
DTSTAMP:20260423T173548
CREATED:20260328T151011Z
LAST-MODIFIED:20260328T151011Z
UID:7271-1776279600-1776283200@pmbcchicago.org
SUMMARY:Worship & Word Service
DESCRIPTION:
URL:http://pmbcchicago.org/event/worship-word-service-3/
CATEGORIES:All events,Upcoming
END:VEVENT
BEGIN:VEVENT
DTSTART;TZID=America/Chicago:20260422T183000
DTEND;TZID=America/Chicago:20260422T190000
DTSTAMP:20260423T173548
CREATED:20260328T151434Z
LAST-MODIFIED:20260328T151434Z
UID:7283-1776882600-1776884400@pmbcchicago.org
SUMMARY:Corporate Prayer
DESCRIPTION:
URL:http://pmbcchicago.org/event/corporate-prayer-7/
CATEGORIES:All events,Upcoming
END:VEVENT
BEGIN:VEVENT
DTSTART;TZID=America/Chicago:20260422T190000
DTEND;TZID=America/Chicago:20260422T200000
DTSTAMP:20260423T173548
CREATED:20260328T151047Z
LAST-MODIFIED:20260328T151047Z
UID:7273-1776884400-1776888000@pmbcchicago.org
SUMMARY:Worship & Word Service
DESCRIPTION:
URL:http://pmbcchicago.org/event/worship-word-service-4/
CATEGORIES:All events,Upcoming
END:VEVENT
BEGIN:VEVENT
DTSTART;TZID=America/Chicago:20260425T110000
DTEND;TZID=America/Chicago:20260425T120000
DTSTAMP:20260423T173548
CREATED:20260325T212049Z
LAST-MODIFIED:20260325T223604Z
UID:7197-1777114800-1777118400@pmbcchicago.org
SUMMARY:Boys & Girls Mentoring
DESCRIPTION:
URL:http://pmbcchicago.org/event/boys-girls-mentoring/
CATEGORIES:All events,Upcoming
END:VEVENT
BEGIN:VEVENT
DTSTART;TZID=America/Chicago:20260426T110000
DTEND;TZID=America/Chicago:20260426T130000
DTSTAMP:20260423T173548
CREATED:20260325T212258Z
LAST-MODIFIED:20260325T223541Z
UID:7199-1777201200-1777208400@pmbcchicago.org
SUMMARY:Family & Friends Day
DESCRIPTION:
URL:http://pmbcchicago.org/event/family-friends-day/
CATEGORIES:All events,Upcoming
END:VEVENT
BEGIN:VEVENT
DTSTART;TZID=America/Chicago:20260429T183000
DTEND;TZID=America/Chicago:20260429T190000
DTSTAMP:20260423T173548
CREATED:20260328T151458Z
LAST-MODIFIED:20260328T151458Z
UID:7285-1777487400-1777489200@pmbcchicago.org
SUMMARY:Corporate Prayer
DESCRIPTION:
URL:http://pmbcchicago.org/event/corporate-prayer-8/
CATEGORIES:All events,Upcoming
END:VEVENT
BEGIN:VEVENT
DTSTART;TZID=America/Chicago:20260429T190000
DTEND;TZID=America/Chicago:20260429T200000
DTSTAMP:20260423T173548
CREATED:20260328T151118Z
LAST-MODIFIED:20260328T151118Z
UID:7275-1777489200-1777492800@pmbcchicago.org
SUMMARY:Worship & Word Service
DESCRIPTION:
URL:http://pmbcchicago.org/event/worship-word-service-5/
CATEGORIES:All events,Upcoming
END:VEVENT
BEGIN:VEVENT
DTSTART;TZID=America/Chicago:20260502T100000
DTEND;TZID=America/Chicago:20260502T100000
DTSTAMP:20260423T173548
CREATED:20260325T210650Z
LAST-MODIFIED:20260325T223520Z
UID:7175-1777716000-1777716000@pmbcchicago.org
SUMMARY:New Member Orientation Class
DESCRIPTION:
URL:http://pmbcchicago.org/event/new-member-orientation-class-4/
CATEGORIES:All events,Upcoming
END:VEVENT
BEGIN:VEVENT
DTSTART;TZID=America/Chicago:20260502T120000
DTEND;TZID=America/Chicago:20260502T120000
DTSTAMP:20260423T173548
CREATED:20260325T205828Z
LAST-MODIFIED:20260325T205834Z
UID:7159-1777723200-1777723200@pmbcchicago.org
SUMMARY:Baptism
DESCRIPTION:
URL:http://pmbcchicago.org/event/baptism-3/
LOCATION:Progressive MB Church\, 26 E 127th St\, Chicago\, IL\, 60628
CATEGORIES:All events,Upcoming
ATTACH;FMTTYPE=image/jpeg:http://pmbcchicago.org/wp-content/uploads/2019/09/Baptism.jpg
END:VEVENT
BEGIN:VEVENT
DTSTART;TZID=America/Chicago:20260506T183000
DTEND;TZID=America/Chicago:20260506T190000
DTSTAMP:20260423T173548
CREATED:20260328T151536Z
LAST-MODIFIED:20260328T151536Z
UID:7287-1778092200-1778094000@pmbcchicago.org
SUMMARY:Corporate Prayer
DESCRIPTION:
URL:http://pmbcchicago.org/event/corporate-prayer-9/
CATEGORIES:All events,Upcoming
END:VEVENT
BEGIN:VEVENT
DTSTART;TZID=America/Chicago:20260506T190000
DTEND;TZID=America/Chicago:20260506T200000
DTSTAMP:20260423T173548
CREATED:20260328T155223Z
LAST-MODIFIED:20260328T155223Z
UID:7351-1778094000-1778097600@pmbcchicago.org
SUMMARY:Worship & Word Service
DESCRIPTION:
URL:http://pmbcchicago.org/event/worship-word-service-6/
CATEGORIES:All events,Upcoming
END:VEVENT
BEGIN:VEVENT
DTSTART;TZID=America/Chicago:20260510T110000
DTEND;TZID=America/Chicago:20260510T130000
DTSTAMP:20260423T173548
CREATED:20260325T212421Z
LAST-MODIFIED:20260325T223500Z
UID:7202-1778410800-1778418000@pmbcchicago.org
SUMMARY:Mother's Day Service
DESCRIPTION:
URL:http://pmbcchicago.org/event/mothers-day/
CATEGORIES:All events,Upcoming
END:VEVENT
BEGIN:VEVENT
DTSTART;TZID=America/Chicago:20260513T183000
DTEND;TZID=America/Chicago:20260513T190000
DTSTAMP:20260423T173548
CREATED:20260328T151603Z
LAST-MODIFIED:20260328T151603Z
UID:7289-1778697000-1778698800@pmbcchicago.org
SUMMARY:Corporate Prayer
DESCRIPTION:
URL:http://pmbcchicago.org/event/corporate-prayer-10/
CATEGORIES:All events,Upcoming
END:VEVENT
BEGIN:VEVENT
DTSTART;TZID=America/Chicago:20260513T190000
DTEND;TZID=America/Chicago:20260513T200000
DTSTAMP:20260423T173548
CREATED:20260328T155243Z
LAST-MODIFIED:20260328T155243Z
UID:7353-1778698800-1778702400@pmbcchicago.org
SUMMARY:Worship & Word Service
DESCRIPTION:
URL:http://pmbcchicago.org/event/worship-word-service-7/
CATEGORIES:All events,Upcoming
END:VEVENT
BEGIN:VEVENT
DTSTART;TZID=America/Chicago:20260520T183000
DTEND;TZID=America/Chicago:20260520T190000
DTSTAMP:20260423T173548
CREATED:20260328T151625Z
LAST-MODIFIED:20260328T151625Z
UID:7291-1779301800-1779303600@pmbcchicago.org
SUMMARY:Corporate Prayer
DESCRIPTION:
URL:http://pmbcchicago.org/event/corporate-prayer-11/
CATEGORIES:All events,Upcoming
END:VEVENT
BEGIN:VEVENT
DTSTART;TZID=America/Chicago:20260523T110000
DTEND;TZID=America/Chicago:20260523T120000
DTSTAMP:20260423T173548
CREATED:20260325T212515Z
LAST-MODIFIED:20260325T223442Z
UID:7204-1779534000-1779537600@pmbcchicago.org
SUMMARY:Boys & Girls Mentoring
DESCRIPTION:
URL:http://pmbcchicago.org/event/boys-girls-mentoring-2/
CATEGORIES:All events,Upcoming
END:VEVENT
BEGIN:VEVENT
DTSTART;TZID=America/Chicago:20260527T183000
DTEND;TZID=America/Chicago:20260527T190000
DTSTAMP:20260423T173548
CREATED:20260328T151645Z
LAST-MODIFIED:20260328T151645Z
UID:7293-1779906600-1779908400@pmbcchicago.org
SUMMARY:Corporate Prayer
DESCRIPTION:
URL:http://pmbcchicago.org/event/corporate-prayer-12/
CATEGORIES:All events,Upcoming
END:VEVENT
BEGIN:VEVENT
DTSTART;TZID=America/Chicago:20260527T190000
DTEND;TZID=America/Chicago:20260527T200000
DTSTAMP:20260423T173548
CREATED:20260328T155309Z
LAST-MODIFIED:20260328T155309Z
UID:7355-1779908400-1779912000@pmbcchicago.org
SUMMARY:Worship & Word Service
DESCRIPTION:
URL:http://pmbcchicago.org/event/worship-word-service-8/
CATEGORIES:All events,Upcoming
END:VEVENT
END:VCALENDAR