BEGIN:VCALENDAR
VERSION:2.0
PRODID:-//Progressive M.B. Church - ECPv6.15.11//NONSGML v1.0//EN
CALSCALE:GREGORIAN
METHOD:PUBLISH
X-WR-CALNAME:Progressive M.B. Church
X-ORIGINAL-URL:http://pmbcchicago.org
X-WR-CALDESC:Events for Progressive M.B. Church
REFRESH-INTERVAL;VALUE=DURATION:PT1H
X-Robots-Tag:noindex
X-PUBLISHED-TTL:PT1H
BEGIN:VTIMEZONE
TZID:America/Chicago
BEGIN:DAYLIGHT
TZOFFSETFROM:-0600
TZOFFSETTO:-0500
TZNAME:CDT
DTSTART:20180311T080000
END:DAYLIGHT
BEGIN:STANDARD
TZOFFSETFROM:-0500
TZOFFSETTO:-0600
TZNAME:CST
DTSTART:20181104T070000
END:STANDARD
BEGIN:DAYLIGHT
TZOFFSETFROM:-0600
TZOFFSETTO:-0500
TZNAME:CDT
DTSTART:20190310T080000
END:DAYLIGHT
BEGIN:STANDARD
TZOFFSETFROM:-0500
TZOFFSETTO:-0600
TZNAME:CST
DTSTART:20191103T070000
END:STANDARD
BEGIN:DAYLIGHT
TZOFFSETFROM:-0600
TZOFFSETTO:-0500
TZNAME:CDT
DTSTART:20200308T080000
END:DAYLIGHT
BEGIN:STANDARD
TZOFFSETFROM:-0500
TZOFFSETTO:-0600
TZNAME:CST
DTSTART:20201101T070000
END:STANDARD
END:VTIMEZONE
BEGIN:VEVENT
DTSTART;TZID=America/Chicago:20190209T050000
DTEND;TZID=America/Chicago:20190209T050000
DTSTAMP:20260425T093228
CREATED:20190206T120025Z
LAST-MODIFIED:20190422T172809Z
UID:159-1549688400-1549688400@pmbcchicago.org
SUMMARY:Married Couples Prayer Luncheon 
DESCRIPTION:Please go to Events Registration to register.
URL:http://pmbcchicago.org/event/new-bible-study-lessons-for-all-ages/
LOCATION:Progressive MB Church\, 26 E 127th St\, Chicago\, IL\, 60628
ATTACH;FMTTYPE=image/jpeg:http://pmbcchicago.org/wp-content/uploads/2019/01/event.jpg
END:VEVENT
END:VCALENDAR