BEGIN:VCALENDAR
VERSION:2.0
PRODID:-//Progressive M.B. Church - ECPv6.15.11//NONSGML v1.0//EN
CALSCALE:GREGORIAN
METHOD:PUBLISH
X-WR-CALNAME:Progressive M.B. Church
X-ORIGINAL-URL:http://pmbcchicago.org
X-WR-CALDESC:Events for Progressive M.B. Church
REFRESH-INTERVAL;VALUE=DURATION:PT1H
X-Robots-Tag:noindex
X-PUBLISHED-TTL:PT1H
BEGIN:VTIMEZONE
TZID:America/Chicago
BEGIN:DAYLIGHT
TZOFFSETFROM:-0600
TZOFFSETTO:-0500
TZNAME:CDT
DTSTART:20180311T080000
END:DAYLIGHT
BEGIN:STANDARD
TZOFFSETFROM:-0500
TZOFFSETTO:-0600
TZNAME:CST
DTSTART:20181104T070000
END:STANDARD
BEGIN:DAYLIGHT
TZOFFSETFROM:-0600
TZOFFSETTO:-0500
TZNAME:CDT
DTSTART:20190310T080000
END:DAYLIGHT
BEGIN:STANDARD
TZOFFSETFROM:-0500
TZOFFSETTO:-0600
TZNAME:CST
DTSTART:20191103T070000
END:STANDARD
BEGIN:DAYLIGHT
TZOFFSETFROM:-0600
TZOFFSETTO:-0500
TZNAME:CDT
DTSTART:20200308T080000
END:DAYLIGHT
BEGIN:STANDARD
TZOFFSETFROM:-0500
TZOFFSETTO:-0600
TZNAME:CST
DTSTART:20201101T070000
END:STANDARD
BEGIN:DAYLIGHT
TZOFFSETFROM:-0600
TZOFFSETTO:-0500
TZNAME:CDT
DTSTART:20210314T080000
END:DAYLIGHT
BEGIN:STANDARD
TZOFFSETFROM:-0500
TZOFFSETTO:-0600
TZNAME:CST
DTSTART:20211107T070000
END:STANDARD
BEGIN:DAYLIGHT
TZOFFSETFROM:-0600
TZOFFSETTO:-0500
TZNAME:CDT
DTSTART:20220313T080000
END:DAYLIGHT
BEGIN:STANDARD
TZOFFSETFROM:-0500
TZOFFSETTO:-0600
TZNAME:CST
DTSTART:20221106T070000
END:STANDARD
BEGIN:DAYLIGHT
TZOFFSETFROM:-0600
TZOFFSETTO:-0500
TZNAME:CDT
DTSTART:20230312T080000
END:DAYLIGHT
BEGIN:STANDARD
TZOFFSETFROM:-0500
TZOFFSETTO:-0600
TZNAME:CST
DTSTART:20231105T070000
END:STANDARD
BEGIN:DAYLIGHT
TZOFFSETFROM:-0600
TZOFFSETTO:-0500
TZNAME:CDT
DTSTART:20240310T080000
END:DAYLIGHT
BEGIN:STANDARD
TZOFFSETFROM:-0500
TZOFFSETTO:-0600
TZNAME:CST
DTSTART:20241103T070000
END:STANDARD
BEGIN:DAYLIGHT
TZOFFSETFROM:-0600
TZOFFSETTO:-0500
TZNAME:CDT
DTSTART:20250309T080000
END:DAYLIGHT
BEGIN:STANDARD
TZOFFSETFROM:-0500
TZOFFSETTO:-0600
TZNAME:CST
DTSTART:20251102T070000
END:STANDARD
BEGIN:DAYLIGHT
TZOFFSETFROM:-0600
TZOFFSETTO:-0500
TZNAME:CDT
DTSTART:20260308T080000
END:DAYLIGHT
BEGIN:STANDARD
TZOFFSETFROM:-0500
TZOFFSETTO:-0600
TZNAME:CST
DTSTART:20261101T070000
END:STANDARD
BEGIN:DAYLIGHT
TZOFFSETFROM:-0600
TZOFFSETTO:-0500
TZNAME:CDT
DTSTART:20270314T080000
END:DAYLIGHT
BEGIN:STANDARD
TZOFFSETFROM:-0500
TZOFFSETTO:-0600
TZNAME:CST
DTSTART:20271107T070000
END:STANDARD
END:VTIMEZONE
BEGIN:VEVENT
DTSTART;TZID=America/Chicago:20250917T190000
DTEND;TZID=America/Chicago:20250917T200000
DTSTAMP:20260424T062933
CREATED:20250825T175200Z
LAST-MODIFIED:20250825T175206Z
UID:7064-1758135600-1758139200@pmbcchicago.org
SUMMARY:Worship & Word Service
DESCRIPTION:
URL:http://pmbcchicago.org/event/corporate-prayer-2-3-2-2/
END:VEVENT
BEGIN:VEVENT
DTSTART;TZID=America/Chicago:20250917T183000
DTEND;TZID=America/Chicago:20250917T190000
DTSTAMP:20260424T062933
CREATED:20250825T173044Z
LAST-MODIFIED:20250825T173046Z
UID:7032-1758133800-1758135600@pmbcchicago.org
SUMMARY:Corporate Prayer
DESCRIPTION:
URL:http://pmbcchicago.org/event/corporate-prayer-3-3/
END:VEVENT
BEGIN:VEVENT
DTSTART;VALUE=DATE:20250914
DTEND;VALUE=DATE:20250915
DTSTAMP:20260424T062933
CREATED:20250823T174003Z
LAST-MODIFIED:20250823T174003Z
UID:6948-1757808000-1757894399@pmbcchicago.org
SUMMARY:Bear Down Sunday
DESCRIPTION:
URL:http://pmbcchicago.org/event/bear-down-sunday/
END:VEVENT
BEGIN:VEVENT
DTSTART;TZID=America/Chicago:20250910T190000
DTEND;TZID=America/Chicago:20250910T200000
DTSTAMP:20260424T062933
CREATED:20250825T174936Z
LAST-MODIFIED:20250825T175030Z
UID:7060-1757530800-1757534400@pmbcchicago.org
SUMMARY:Worship & Word Service
DESCRIPTION:
URL:http://pmbcchicago.org/event/corporate-prayer-2-3-2/
END:VEVENT
BEGIN:VEVENT
DTSTART;TZID=America/Chicago:20250910T183000
DTEND;TZID=America/Chicago:20250910T190000
DTSTAMP:20260424T062933
CREATED:20250825T173008Z
LAST-MODIFIED:20250825T173011Z
UID:7030-1757529000-1757530800@pmbcchicago.org
SUMMARY:Corporate Prayer
DESCRIPTION:
URL:http://pmbcchicago.org/event/corporate-prayer-3-2/
END:VEVENT
BEGIN:VEVENT
DTSTART;TZID=America/Chicago:20250906T120000
DTEND;TZID=America/Chicago:20250906T130000
DTSTAMP:20260424T062933
CREATED:20250823T181129Z
LAST-MODIFIED:20250823T181134Z
UID:6973-1757160000-1757163600@pmbcchicago.org
SUMMARY:Baptism
DESCRIPTION:Monthly Baptism ServiceCelebrate new life in Christ at our monthly baptism service! This special time of worship is dedicated to those publicly declaring their faith and commitment to Jesus.  \nJoin us as we support and rejoice with our brothers and sisters taking this important step in their spiritual journey.  \nAll are welcome to attend and celebrate!
URL:http://pmbcchicago.org/event/baptism-noon-2/
END:VEVENT
BEGIN:VEVENT
DTSTART;TZID=America/Chicago:20250906T100000
DTEND;TZID=America/Chicago:20250906T120000
DTSTAMP:20260424T062933
CREATED:20250823T175857Z
LAST-MODIFIED:20250823T175857Z
UID:6962-1757152800-1757160000@pmbcchicago.org
SUMMARY:New Member's Orientation
DESCRIPTION:Welcome to the Family!\n To become an official member of the church\, all new members are required to attend this one-day orientation class. You’ll learn about our mission\, beliefs\, and ways to get connected.  \nClasses are held monthly.  No registration needed—just show up!  \nWe look forward to seeing you there.
URL:http://pmbcchicago.org/event/new-members-orientation-2-2/
END:VEVENT
BEGIN:VEVENT
DTSTART;TZID=America/Chicago:20250903T190000
DTEND;TZID=America/Chicago:20250903T200000
DTSTAMP:20260424T062933
CREATED:20250825T172612Z
LAST-MODIFIED:20250825T172622Z
UID:7024-1756926000-1756929600@pmbcchicago.org
SUMMARY:Worship & Word Service
DESCRIPTION:
URL:http://pmbcchicago.org/event/corporate-prayer-2-2/
END:VEVENT
BEGIN:VEVENT
DTSTART;TZID=America/Chicago:20250903T183000
DTEND;TZID=America/Chicago:20250903T190000
DTSTAMP:20260424T062933
CREATED:20250825T172503Z
LAST-MODIFIED:20250825T172506Z
UID:7019-1756924200-1756926000@pmbcchicago.org
SUMMARY:Corporate Prayer
DESCRIPTION:
URL:http://pmbcchicago.org/event/corporate-prayer-3/
END:VEVENT
BEGIN:VEVENT
DTSTART;TZID=America/Chicago:20250827T190000
DTEND;TZID=America/Chicago:20250827T200000
DTSTAMP:20260424T062933
CREATED:20250825T172409Z
LAST-MODIFIED:20250825T172412Z
UID:7020-1756321200-1756324800@pmbcchicago.org
SUMMARY:Worship & Word Service
DESCRIPTION:
URL:http://pmbcchicago.org/event/corporate-prayer-2/
END:VEVENT
BEGIN:VEVENT
DTSTART;TZID=America/Chicago:20250827T183000
DTEND;TZID=America/Chicago:20250827T190000
DTSTAMP:20260424T062933
CREATED:20250825T172104Z
LAST-MODIFIED:20250825T172106Z
UID:7017-1756319400-1756321200@pmbcchicago.org
SUMMARY:Corporate Prayer
DESCRIPTION:
URL:http://pmbcchicago.org/event/corporate-prayer/
END:VEVENT
BEGIN:VEVENT
DTSTART;TZID=America/Chicago:20250531T100000
DTEND;TZID=America/Chicago:20250531T120000
DTSTAMP:20260424T062933
CREATED:20250505T032043Z
LAST-MODIFIED:20250505T034139Z
UID:6762-1748685600-1748692800@pmbcchicago.org
SUMMARY:New Member's Orientation
DESCRIPTION:Welcome to the Family!\n To become an official member of the church\, all new members are required to attend this one-day orientation class. You’ll learn about our mission\, beliefs\, and ways to get connected.  \nClasses are held monthly.  No registration needed—just show up!  \nWe look forward to seeing you there.
URL:http://pmbcchicago.org/event/new-members-orientation-2/
END:VEVENT
BEGIN:VEVENT
DTSTART;TZID=America/Chicago:20250511T110000
DTEND;TZID=America/Chicago:20250511T130000
DTSTAMP:20260424T062933
CREATED:20250505T031112Z
LAST-MODIFIED:20250505T033019Z
UID:6759-1746961200-1746968400@pmbcchicago.org
SUMMARY:Mother's Day Worship Service
DESCRIPTION:Mother’s Day Worship ServiceJoin us as we honor and celebrate the incredible mothers and mother figures in our lives during a special Mother’s Day worship service.  \nThis will be a heartfelt time of praise\, reflection\, and gratitude\, featuring a powerful word to encourage\, honor\, and celebrate the women who shape our families and community.  \nAll are welcome—bring someone special with you!
URL:http://pmbcchicago.org/event/mothers-day-worship-service/
END:VEVENT
BEGIN:VEVENT
DTSTART;TZID=America/Chicago:20250503T120000
DTEND;TZID=America/Chicago:20250503T130000
DTSTAMP:20260424T062933
CREATED:20250505T025714Z
LAST-MODIFIED:20250505T033121Z
UID:6750-1746273600-1746277200@pmbcchicago.org
SUMMARY:Baptism
DESCRIPTION:Monthly Baptism ServiceCelebrate new life in Christ at our monthly baptism service! This special time of worship is dedicated to those publicly declaring their faith and commitment to Jesus.  \nJoin us as we support and rejoice with our brothers and sisters taking this important step in their spiritual journey.  \nAll are welcome to attend and celebrate!
URL:http://pmbcchicago.org/event/baptism-noon/
END:VEVENT
BEGIN:VEVENT
DTSTART;TZID=America/Chicago:20250503T100000
DTEND;TZID=America/Chicago:20250503T120000
DTSTAMP:20260424T062933
CREATED:20250505T030659Z
LAST-MODIFIED:20250505T030659Z
UID:6757-1746266400-1746273600@pmbcchicago.org
SUMMARY:New Members Orientation
DESCRIPTION:
URL:http://pmbcchicago.org/event/new-members-orientation/
END:VEVENT
BEGIN:VEVENT
DTSTART;TZID=America/Chicago:20200208T110000
DTEND;TZID=America/Chicago:20200208T110000
DTSTAMP:20260424T062933
CREATED:20200123T191923Z
LAST-MODIFIED:20200123T191923Z
UID:5016-1581159600-1581159600@pmbcchicago.org
SUMMARY:Married Couples Love Luncheon
DESCRIPTION:It’s time again for the annual PMBC Married Couples Love Luncheon! Join us and our special guests for an afternoon of fun\, fellowship\, and food while we focus on fortifying our marriages. The cost is $20 per couple. RSVP for you and your spouse by adding your names to the list on the table near the pulpit\, or via email to admin@pmbcchicago.org. Payment may be made in person with cash after any worship service OR through the Givelify app.  We can’t wait to see you! ❤
URL:http://pmbcchicago.org/event/married-couples-love-luncheon/
LOCATION:Progressive MB Church\, 26 E 127th St\, Chicago\, IL\, 60628
CATEGORIES:All events,Upcoming
ATTACH;FMTTYPE=image/jpeg:http://pmbcchicago.org/wp-content/uploads/2020/01/Married-Couples-Love-Luncheon-2020.jpg
END:VEVENT
BEGIN:VEVENT
DTSTART;TZID=America/Chicago:20260103T120000
DTEND;TZID=America/Chicago:20260103T120000
DTSTAMP:20260424T062933
CREATED:20251115T160823Z
LAST-MODIFIED:20251115T160823Z
UID:6972-1767441600-1767441600@pmbcchicago.org
SUMMARY:Baptism
DESCRIPTION:
URL:http://pmbcchicago.org/event/baptism-sunday-2-2/
LOCATION:Progressive MB Church\, 26 E 127th St\, Chicago\, IL\, 60628
CATEGORIES:All events,Upcoming
ATTACH;FMTTYPE=image/jpeg:http://pmbcchicago.org/wp-content/uploads/2019/09/Baptism.jpg
END:VEVENT
BEGIN:VEVENT
DTSTART;VALUE=DATE:20200126
DTEND;VALUE=DATE:20200127
DTSTAMP:20260424T062933
CREATED:20191027T050030Z
LAST-MODIFIED:20200123T192234Z
UID:4956-1579996800-1580083199@pmbcchicago.org
SUMMARY:Baptism Sunday
DESCRIPTION:The last Sunday of every month is Baptism Sunday!  We’re EXCITED about welcoming new members to the family of Christ!
URL:http://pmbcchicago.org/event/baptism-sunday-2/
LOCATION:Progressive MB Church\, 26 E 127th St\, Chicago\, IL\, 60628
CATEGORIES:All events,Upcoming
ATTACH;FMTTYPE=image/jpeg:http://pmbcchicago.org/wp-content/uploads/2019/09/Baptism.jpg
END:VEVENT
BEGIN:VEVENT
DTSTART;VALUE=DATE:20200123
DTEND;VALUE=DATE:20210102
DTSTAMP:20260424T062933
CREATED:20190926T174120Z
LAST-MODIFIED:20200123T192843Z
UID:4949-1579737600-1609545599@pmbcchicago.org
SUMMARY:PMBC Weekly Services
DESCRIPTION:There’s ALWAYS something going on at Progressive\, because “We are PRESSING and PROGRESSING!”
URL:http://pmbcchicago.org/event/pmbc-weekly-services/
LOCATION:Progressive M.B. Church\, 26 E. 127th St\, Chicago\, IL\, 60628\, United States
CATEGORIES:All events,Upcoming
ATTACH;FMTTYPE=image/jpeg:http://pmbcchicago.org/wp-content/uploads/2019/09/Weekly-Services.jpg
END:VEVENT
BEGIN:VEVENT
DTSTART;TZID=America/Chicago:20191231T190000
DTEND;TZID=America/Chicago:20191231T190000
DTSTAMP:20260424T062933
CREATED:20191219T184851Z
LAST-MODIFIED:20191219T184851Z
UID:5013-1577818800-1577818800@pmbcchicago.org
SUMMARY:New Year's Eve Service
DESCRIPTION:Join us for New Year’s Eve service and end 2019 with a PRAISE! Let’s go into 2020 with our minds on the Lord.
URL:http://pmbcchicago.org/event/new-years-eve-service/
LOCATION:Progressive MB Church\, 26 E 127th St\, Chicago\, IL\, 60628
CATEGORIES:All events,Upcoming
ATTACH;FMTTYPE=image/jpeg:http://pmbcchicago.org/wp-content/uploads/2019/12/NYE-2020.jpg
END:VEVENT
BEGIN:VEVENT
DTSTART;VALUE=DATE:20191222
DTEND;VALUE=DATE:20191223
DTSTAMP:20260424T062933
CREATED:20191212T153035Z
LAST-MODIFIED:20191219T175306Z
UID:5009-1576972800-1577059199@pmbcchicago.org
SUMMARY:Christmas Service
DESCRIPTION:JESUS is the reason for the season!\nJoin us as we celebrate the birth of our Lord and Savior\, Jesus Christ!\n  9:30am:  Christmas Program\n11:00am:  Christmas Worship Service
URL:http://pmbcchicago.org/event/christmas-service/
CATEGORIES:All events,Upcoming
ATTACH;FMTTYPE=image/jpeg:http://pmbcchicago.org/wp-content/uploads/2019/12/Christmas-Svc-2019.jpg
END:VEVENT
BEGIN:VEVENT
DTSTART;VALUE=DATE:20191201
DTEND;VALUE=DATE:20191202
DTSTAMP:20260424T062933
CREATED:20191113T182717Z
LAST-MODIFIED:20191113T182718Z
UID:5001-1575158400-1575158400@pmbcchicago.org
SUMMARY:PMBC Membership Sunday!
DESCRIPTION:ALL members of Progressive MB Church are asked to be in attendance!
URL:http://pmbcchicago.org/event/pmbc-membership-sunday/
CATEGORIES:All events,Upcoming
ATTACH;FMTTYPE=image/jpeg:http://pmbcchicago.org/wp-content/uploads/2019/11/Membership-Day-2019.jpg
END:VEVENT
BEGIN:VEVENT
DTSTART;TZID=America/Chicago:20191128T100000
DTEND;TZID=America/Chicago:20191128T110000
DTSTAMP:20260424T062933
CREATED:20191113T182203Z
LAST-MODIFIED:20191113T182340Z
UID:4995-1574935200-1574938800@pmbcchicago.org
SUMMARY:Thanksgiving Day Service
DESCRIPTION:Come give thanks in worship before you break bread with family and friends!
URL:http://pmbcchicago.org/event/thanksgiving-day-service/
LOCATION:Progressive M.B. Church\, 26 E. 127th St\, Chicago\, IL\, 60628\, United States
CATEGORIES:All events,Upcoming
ATTACH;FMTTYPE=image/jpeg:http://pmbcchicago.org/wp-content/uploads/2019/11/Thanksgiving-Day-2019-Service.jpg
END:VEVENT
BEGIN:VEVENT
DTSTART;TZID=America/Chicago:20191110T110000
DTEND;TZID=America/Chicago:20191110T110000
DTSTAMP:20260424T062933
CREATED:20191023T164254Z
LAST-MODIFIED:20191023T164852Z
UID:4988-1573383600-1573383600@pmbcchicago.org
SUMMARY:Rev. Warren Woods\, Jr.'s 4th Pastoral Anniversary - Sunday\, 11/10/19
DESCRIPTION:Please come out and help us celebrate our wonderful Pastor’s 4th Anniversary here at Progressive Missionary Baptist Church! Sunday\, November 10\, 2019 at 11am.
URL:http://pmbcchicago.org/event/rev-warren-woods-jr-s-4th-pastoral-anniversary-2/
LOCATION:Progressive M.B. Church\, 26 E. 127th St\, Chicago\, IL\, 60628\, United States
CATEGORIES:All events,Upcoming
ATTACH;FMTTYPE=image/jpeg:http://pmbcchicago.org/wp-content/uploads/2019/10/WWJr4thAnn.jpg
END:VEVENT
BEGIN:VEVENT
DTSTART;TZID=America/Chicago:20191106T190000
DTEND;TZID=America/Chicago:20191106T190000
DTSTAMP:20260424T062933
CREATED:20191023T165146Z
LAST-MODIFIED:20191023T165146Z
UID:4990-1573066800-1573066800@pmbcchicago.org
SUMMARY:Rev. Warren Woods\, Jr.'s 4th Pastoral Anniversary - Wednesday 11/6/19
DESCRIPTION:Please come out and help us celebrate our wonderful Pastor’s 4th Anniversary here at Progressive Missionary Baptist Church!  Wednesday\, November 6\, 2019 at 7pm.
URL:http://pmbcchicago.org/event/rev-warren-woods-jr-s-4th-pastoral-anniversary/
LOCATION:Progressive M.B. Church\, 26 E. 127th St\, Chicago\, IL\, 60628\, United States
CATEGORIES:All events,Upcoming
ATTACH;FMTTYPE=image/jpeg:http://pmbcchicago.org/wp-content/uploads/2019/10/WWJr4thAnn.jpg
END:VEVENT
BEGIN:VEVENT
DTSTART;TZID=America/Chicago:20191026T160000
DTEND;TZID=America/Chicago:20191026T190000
DTSTAMP:20260424T062933
CREATED:20191023T163549Z
LAST-MODIFIED:20191023T163549Z
UID:4986-1572105600-1572116400@pmbcchicago.org
SUMMARY:Trunk or Treat
DESCRIPTION:Bring the kids out for food\, fun\, games and CANDY!  Costumes are encouraged\, but NO SCARY COSTUMES.
URL:http://pmbcchicago.org/event/trunk-or-treat/
LOCATION:Progressive M.B. Church\, 26 E. 127th St\, Chicago\, IL\, 60628\, United States
CATEGORIES:All events,Upcoming
ATTACH;FMTTYPE=image/jpeg:http://pmbcchicago.org/wp-content/uploads/2019/10/Trunk-or-Treat.jpg
END:VEVENT
BEGIN:VEVENT
DTSTART;VALUE=DATE:20191020
DTEND;VALUE=DATE:20191021
DTSTAMP:20260424T062933
CREATED:20190926T171138Z
LAST-MODIFIED:20190926T171138Z
UID:4946-1571529600-1571615999@pmbcchicago.org
SUMMARY:PMBC Pink Sunday
DESCRIPTION:We’re celebrating and encouraging breast cancer warriors by wearing PINK!
URL:http://pmbcchicago.org/event/pmbc-pink-sunday/
LOCATION:Progressive MB Church\, 26 E 127th St\, Chicago\, IL\, 60628
CATEGORIES:All events,Upcoming
ATTACH;FMTTYPE=image/jpeg:http://pmbcchicago.org/wp-content/uploads/2019/09/Pink-Sunday-2019.jpg
END:VEVENT
BEGIN:VEVENT
DTSTART;TZID=America/Chicago:20191019T110000
DTEND;TZID=America/Chicago:20191019T110000
DTSTAMP:20260424T062933
CREATED:20191004T034716Z
LAST-MODIFIED:20191004T034716Z
UID:4943-1571482800-1571482800@pmbcchicago.org
SUMMARY:PMBC Singles Session
DESCRIPTION:???\nIt doesn’t have to be a bad thing! All the single ladies (AND GENTLEMEN!) need to be here for this session with our Pastor. \nRSVP to:  admin@pmbcchicago.org ~OR~  773.978.8889 \n 
URL:http://pmbcchicago.org/event/pmbc-singles-session/
LOCATION:Progressive M.B. Church\, 26 E. 127th St\, Chicago\, IL\, 60628\, United States
CATEGORIES:All events,Upcoming
ATTACH;FMTTYPE=image/jpeg:http://pmbcchicago.org/wp-content/uploads/2019/09/Singles-Session-2019.jpg
END:VEVENT
BEGIN:VEVENT
DTSTART;TZID=America/Chicago:20191012T093000
DTEND;TZID=America/Chicago:20191012T110000
DTSTAMP:20260424T062933
CREATED:20191001T120007Z
LAST-MODIFIED:20191004T021821Z
UID:4940-1570872600-1570878000@pmbcchicago.org
SUMMARY:PMBC Men's Prayer Breakfast
DESCRIPTION:Come have some good food and fellowship with the other Men of PMBC!
URL:http://pmbcchicago.org/event/pmbc-mens-prayer-breakfast/
LOCATION:Progressive MB Church\, 26 E 127th St\, Chicago\, IL\, 60628
CATEGORIES:All events,Upcoming
ATTACH;FMTTYPE=image/jpeg:http://pmbcchicago.org/wp-content/uploads/2019/09/Mens-Prayer-Breakfast.jpg
END:VEVENT
BEGIN:VEVENT
DTSTART;VALUE=DATE:20190929
DTEND;VALUE=DATE:20190930
DTSTAMP:20260424T062933
CREATED:20190926T174517Z
LAST-MODIFIED:20190926T174517Z
UID:4954-1569715200-1569801599@pmbcchicago.org
SUMMARY:Baptism Sunday
DESCRIPTION:The last Sunday of every month is Baptism Sunday!  We’re EXCITED about welcoming new members to the family of Christ!
URL:http://pmbcchicago.org/event/baptism-sunday/
LOCATION:Progressive MB Church\, 26 E 127th St\, Chicago\, IL\, 60628
CATEGORIES:All events,Upcoming
ATTACH;FMTTYPE=image/jpeg:http://pmbcchicago.org/wp-content/uploads/2019/09/Baptism.jpg
END:VEVENT
END:VCALENDAR