BEGIN:VCALENDAR
VERSION:2.0
PRODID:-//Progressive M.B. Church - ECPv6.15.11//NONSGML v1.0//EN
CALSCALE:GREGORIAN
METHOD:PUBLISH
X-WR-CALNAME:Progressive M.B. Church
X-ORIGINAL-URL:http://pmbcchicago.org
X-WR-CALDESC:Events for Progressive M.B. Church
REFRESH-INTERVAL;VALUE=DURATION:PT1H
X-Robots-Tag:noindex
X-PUBLISHED-TTL:PT1H
BEGIN:VTIMEZONE
TZID:America/Chicago
BEGIN:DAYLIGHT
TZOFFSETFROM:-0600
TZOFFSETTO:-0500
TZNAME:CDT
DTSTART:20240310T080000
END:DAYLIGHT
BEGIN:STANDARD
TZOFFSETFROM:-0500
TZOFFSETTO:-0600
TZNAME:CST
DTSTART:20241103T070000
END:STANDARD
BEGIN:DAYLIGHT
TZOFFSETFROM:-0600
TZOFFSETTO:-0500
TZNAME:CDT
DTSTART:20250309T080000
END:DAYLIGHT
BEGIN:STANDARD
TZOFFSETFROM:-0500
TZOFFSETTO:-0600
TZNAME:CST
DTSTART:20251102T070000
END:STANDARD
BEGIN:DAYLIGHT
TZOFFSETFROM:-0600
TZOFFSETTO:-0500
TZNAME:CDT
DTSTART:20260308T080000
END:DAYLIGHT
BEGIN:STANDARD
TZOFFSETFROM:-0500
TZOFFSETTO:-0600
TZNAME:CST
DTSTART:20261101T070000
END:STANDARD
END:VTIMEZONE
BEGIN:VEVENT
DTSTART;TZID=America/Chicago:20251203T183000
DTEND;TZID=America/Chicago:20251203T190000
DTSTAMP:20260423T192232
CREATED:20250825T174613Z
LAST-MODIFIED:20250825T174628Z
UID:7054-1764786600-1764788400@pmbcchicago.org
SUMMARY:Corporate Prayer
DESCRIPTION:
URL:http://pmbcchicago.org/event/corporate-prayer-3-12/
END:VEVENT
BEGIN:VEVENT
DTSTART;VALUE=DATE:20251130
DTEND;VALUE=DATE:20251201
DTSTAMP:20260423T192232
CREATED:20250825T170625Z
LAST-MODIFIED:20250825T170633Z
UID:7000-1764460800-1764547199@pmbcchicago.org
SUMMARY:Black Sunday
DESCRIPTION:
URL:http://pmbcchicago.org/event/black-sunday/
END:VEVENT
BEGIN:VEVENT
DTSTART;TZID=America/Chicago:20251127T100000
DTEND;TZID=America/Chicago:20251127T110000
DTSTAMP:20260423T192232
CREATED:20250825T170546Z
LAST-MODIFIED:20251110T171734Z
UID:6998-1764237600-1764241200@pmbcchicago.org
SUMMARY:Thanksgiving Service
DESCRIPTION:
URL:http://pmbcchicago.org/event/thanksgiving-service/
END:VEVENT
BEGIN:VEVENT
DTSTART;TZID=America/Chicago:20251119T190000
DTEND;TZID=America/Chicago:20251119T200000
DTSTAMP:20260423T192232
CREATED:20250825T175913Z
LAST-MODIFIED:20250825T175918Z
UID:7085-1763578800-1763582400@pmbcchicago.org
SUMMARY:Worship & Word Service
DESCRIPTION:
URL:http://pmbcchicago.org/event/corporate-prayer-2-3-2-4-4-2-2-2-2/
END:VEVENT
BEGIN:VEVENT
DTSTART;TZID=America/Chicago:20251119T183000
DTEND;TZID=America/Chicago:20251119T190000
DTSTAMP:20260423T192232
CREATED:20250825T174538Z
LAST-MODIFIED:20250825T174540Z
UID:7052-1763577000-1763578800@pmbcchicago.org
SUMMARY:Corporate Prayer
DESCRIPTION:
URL:http://pmbcchicago.org/event/corporate-prayer-3-9/
END:VEVENT
BEGIN:VEVENT
DTSTART;TZID=America/Chicago:20251112T190000
DTEND;TZID=America/Chicago:20251112T200000
DTSTAMP:20260423T192232
CREATED:20250825T175840Z
LAST-MODIFIED:20250825T175842Z
UID:7083-1762974000-1762977600@pmbcchicago.org
SUMMARY:Worship & Word Service
DESCRIPTION:
URL:http://pmbcchicago.org/event/corporate-prayer-2-3-2-4-4-2-2-2/
END:VEVENT
BEGIN:VEVENT
DTSTART;TZID=America/Chicago:20251112T183000
DTEND;TZID=America/Chicago:20251112T190000
DTSTAMP:20260423T192232
CREATED:20250825T173837Z
LAST-MODIFIED:20250825T173840Z
UID:7050-1762972200-1762974000@pmbcchicago.org
SUMMARY:Corporate Prayer
DESCRIPTION:
URL:http://pmbcchicago.org/event/corporate-prayer-3-6-2/
END:VEVENT
BEGIN:VEVENT
DTSTART;VALUE=DATE:20251109
DTEND;VALUE=DATE:20251110
DTSTAMP:20260423T192232
CREATED:20250825T170302Z
LAST-MODIFIED:20250825T170305Z
UID:6995-1762646400-1762732799@pmbcchicago.org
SUMMARY:Pastor's 10th Anniversary
DESCRIPTION:
URL:http://pmbcchicago.org/event/pastors-10th-anniversary/
END:VEVENT
BEGIN:VEVENT
DTSTART;TZID=America/Chicago:20251105T190000
DTEND;TZID=America/Chicago:20251105T200000
DTSTAMP:20260423T192232
CREATED:20250825T175819Z
LAST-MODIFIED:20250825T175823Z
UID:7081-1762369200-1762372800@pmbcchicago.org
SUMMARY:Worship & Word Service
DESCRIPTION:
URL:http://pmbcchicago.org/event/corporate-prayer-2-3-2-4-4-2-2/
END:VEVENT
BEGIN:VEVENT
DTSTART;TZID=America/Chicago:20251105T183000
DTEND;TZID=America/Chicago:20251105T190000
DTSTAMP:20260423T192232
CREATED:20250825T173247Z
LAST-MODIFIED:20250825T173756Z
UID:7027-1762367400-1762369200@pmbcchicago.org
SUMMARY:Corporate Prayer
DESCRIPTION:
URL:http://pmbcchicago.org/event/corporate-prayer-3-6/
END:VEVENT
BEGIN:VEVENT
DTSTART;TZID=America/Chicago:20251101T120000
DTEND;TZID=America/Chicago:20251101T130000
DTSTAMP:20260423T192232
CREATED:20250825T171332Z
LAST-MODIFIED:20250825T171336Z
UID:7010-1761998400-1762002000@pmbcchicago.org
SUMMARY:Baptism
DESCRIPTION:Monthly Baptism ServiceCelebrate new life in Christ at our monthly baptism service! This special time of worship is dedicated to those publicly declaring their faith and commitment to Jesus.  \nJoin us as we support and rejoice with our brothers and sisters taking this important step in their spiritual journey.  \nAll are welcome to attend and celebrate!
URL:http://pmbcchicago.org/event/baptism-noon-2-2/
END:VEVENT
BEGIN:VEVENT
DTSTART;TZID=America/Chicago:20251101T100000
DTEND;TZID=America/Chicago:20251101T120000
DTSTAMP:20260423T192232
CREATED:20250823T180225Z
LAST-MODIFIED:20250823T180237Z
UID:6966-1761991200-1761998400@pmbcchicago.org
SUMMARY:New Membership Orientation
DESCRIPTION:Welcome to the Family!\n To become an official member of the church\, all new members are required to attend this one-day orientation class. You’ll learn about our mission\, beliefs\, and ways to get connected.  \nClasses are held monthly.  No registration needed—just show up!  \nWe look forward to seeing you there.
URL:http://pmbcchicago.org/event/new-membership-orientation-2/
END:VEVENT
BEGIN:VEVENT
DTSTART;TZID=America/Chicago:20251029T190000
DTEND;TZID=America/Chicago:20251029T200000
DTSTAMP:20260423T192232
CREATED:20250825T175746Z
LAST-MODIFIED:20250825T175755Z
UID:7079-1761764400-1761768000@pmbcchicago.org
SUMMARY:Worship & Word Service
DESCRIPTION:
URL:http://pmbcchicago.org/event/corporate-prayer-2-3-2-4-4-2/
END:VEVENT
BEGIN:VEVENT
DTSTART;TZID=America/Chicago:20251029T183000
DTEND;TZID=America/Chicago:20251029T190000
DTSTAMP:20260423T192232
CREATED:20250825T173609Z
LAST-MODIFIED:20250825T173612Z
UID:7048-1761762600-1761764400@pmbcchicago.org
SUMMARY:Corporate Prayer
DESCRIPTION:
URL:http://pmbcchicago.org/event/corporate-prayer-3-11/
END:VEVENT
BEGIN:VEVENT
DTSTART;TZID=America/Chicago:20251025T150000
DTEND;TZID=America/Chicago:20251025T170000
DTSTAMP:20260423T192232
CREATED:20250823T182710Z
LAST-MODIFIED:20250823T182749Z
UID:6993-1761404400-1761411600@pmbcchicago.org
SUMMARY:Trunk or Treat
DESCRIPTION:
URL:http://pmbcchicago.org/event/trunk-or-treat-2/
END:VEVENT
BEGIN:VEVENT
DTSTART;TZID=America/Chicago:20251022T190000
DTEND;TZID=America/Chicago:20251022T200000
DTSTAMP:20260423T192232
CREATED:20250825T175720Z
LAST-MODIFIED:20250825T175720Z
UID:7077-1761159600-1761163200@pmbcchicago.org
SUMMARY:Worship & Word Service
DESCRIPTION:
URL:http://pmbcchicago.org/event/corporate-prayer-2-3-2-4-4/
END:VEVENT
BEGIN:VEVENT
DTSTART;TZID=America/Chicago:20251022T183000
DTEND;TZID=America/Chicago:20251022T190000
DTSTAMP:20260423T192232
CREATED:20250825T173533Z
LAST-MODIFIED:20250825T173541Z
UID:7046-1761157800-1761159600@pmbcchicago.org
SUMMARY:Corporate Prayer
DESCRIPTION:
URL:http://pmbcchicago.org/event/corporate-prayer-3-10/
END:VEVENT
BEGIN:VEVENT
DTSTART;VALUE=DATE:20251019
DTEND;VALUE=DATE:20251020
DTSTAMP:20260423T192232
CREATED:20250823T182627Z
LAST-MODIFIED:20250825T180302Z
UID:6991-1760832000-1760918399@pmbcchicago.org
SUMMARY:Pink Sunday
DESCRIPTION:
URL:http://pmbcchicago.org/event/pink-sunday/
END:VEVENT
BEGIN:VEVENT
DTSTART;TZID=America/Chicago:20251015T190000
DTEND;TZID=America/Chicago:20251015T200000
DTSTAMP:20260423T192232
CREATED:20250825T175449Z
LAST-MODIFIED:20250825T175451Z
UID:7075-1760554800-1760558400@pmbcchicago.org
SUMMARY:Worship & Word Service
DESCRIPTION:
URL:http://pmbcchicago.org/event/corporate-prayer-2-3-2-4-3/
END:VEVENT
BEGIN:VEVENT
DTSTART;TZID=America/Chicago:20251015T183000
DTEND;TZID=America/Chicago:20251015T190000
DTSTAMP:20260423T192232
CREATED:20250825T173343Z
LAST-MODIFIED:20250825T173346Z
UID:7042-1760553000-1760554800@pmbcchicago.org
SUMMARY:Corporate Prayer
DESCRIPTION:
URL:http://pmbcchicago.org/event/corporate-prayer-3-8/
END:VEVENT
BEGIN:VEVENT
DTSTART;VALUE=DATE:20251012
DTEND;VALUE=DATE:20251013
DTSTAMP:20260423T192232
CREATED:20250823T182524Z
LAST-MODIFIED:20250825T181953Z
UID:6988-1760227200-1760313599@pmbcchicago.org
SUMMARY:Mens' Day
DESCRIPTION:
URL:http://pmbcchicago.org/event/mens-day/
END:VEVENT
BEGIN:VEVENT
DTSTART;TZID=America/Chicago:20251008T190000
DTEND;TZID=America/Chicago:20251008T200000
DTSTAMP:20260423T192232
CREATED:20250825T175408Z
LAST-MODIFIED:20250825T175411Z
UID:7072-1759950000-1759953600@pmbcchicago.org
SUMMARY:Worship & Word Service
DESCRIPTION:
URL:http://pmbcchicago.org/event/corporate-prayer-2-3-2-4-2/
END:VEVENT
BEGIN:VEVENT
DTSTART;TZID=America/Chicago:20251008T183000
DTEND;TZID=America/Chicago:20251008T190000
DTSTAMP:20260423T192232
CREATED:20250825T173315Z
LAST-MODIFIED:20250825T173318Z
UID:7040-1759948200-1759950000@pmbcchicago.org
SUMMARY:Corporate Prayer
DESCRIPTION:
URL:http://pmbcchicago.org/event/corporate-prayer-3-7/
END:VEVENT
BEGIN:VEVENT
DTSTART;TZID=America/Chicago:20251004T120000
DTEND;TZID=America/Chicago:20251004T130000
DTSTAMP:20260423T192232
CREATED:20250825T171550Z
LAST-MODIFIED:20250825T171553Z
UID:7012-1759579200-1759582800@pmbcchicago.org
SUMMARY:Baptism
DESCRIPTION:Monthly Baptism ServiceCelebrate new life in Christ at our monthly baptism service! This special time of worship is dedicated to those publicly declaring their faith and commitment to Jesus.  \nJoin us as we support and rejoice with our brothers and sisters taking this important step in their spiritual journey.  \nAll are welcome to attend and celebrate!
URL:http://pmbcchicago.org/event/baptism-noon-2-2-2/
END:VEVENT
BEGIN:VEVENT
DTSTART;TZID=America/Chicago:20251004T100000
DTEND;TZID=America/Chicago:20251004T120000
DTSTAMP:20260423T192232
CREATED:20250823T175342Z
LAST-MODIFIED:20250823T175524Z
UID:6955-1759572000-1759579200@pmbcchicago.org
SUMMARY:New Membership Orientation
DESCRIPTION:Welcome to the Family!\n To become an official member of the church\, all new members are required to attend this one-day orientation class. You’ll learn about our mission\, beliefs\, and ways to get connected.  \nClasses are held monthly.  No registration needed—just show up!  \nWe look forward to seeing you there.
URL:http://pmbcchicago.org/event/new-membership-orientation/
END:VEVENT
BEGIN:VEVENT
DTSTART;TZID=America/Chicago:20251001T190000
DTEND;TZID=America/Chicago:20251001T200000
DTSTAMP:20260423T192232
CREATED:20250825T175252Z
LAST-MODIFIED:20250825T175255Z
UID:7068-1759345200-1759348800@pmbcchicago.org
SUMMARY:Worship & Word Service
DESCRIPTION:
URL:http://pmbcchicago.org/event/corporate-prayer-2-3-2-4/
END:VEVENT
BEGIN:VEVENT
DTSTART;TZID=America/Chicago:20251001T183000
DTEND;TZID=America/Chicago:20251001T190000
DTSTAMP:20260423T192232
CREATED:20250825T173215Z
LAST-MODIFIED:20250825T173220Z
UID:7036-1759343400-1759345200@pmbcchicago.org
SUMMARY:Corporate Prayer
DESCRIPTION:
URL:http://pmbcchicago.org/event/corporate-prayer-3-5/
END:VEVENT
BEGIN:VEVENT
DTSTART;VALUE=DATE:20250928
DTEND;VALUE=DATE:20250929
DTSTAMP:20260423T192232
CREATED:20250823T181305Z
LAST-MODIFIED:20250823T181415Z
UID:6976-1759017600-1759103999@pmbcchicago.org
SUMMARY:Blue Sunday
DESCRIPTION:
URL:http://pmbcchicago.org/event/blue-sunday/
END:VEVENT
BEGIN:VEVENT
DTSTART;TZID=America/Chicago:20250927T110000
DTEND;TZID=America/Chicago:20250927T130000
DTSTAMP:20260423T192232
CREATED:20250924T220958Z
LAST-MODIFIED:20250924T221115Z
UID:7141-1758970800-1758978000@pmbcchicago.org
SUMMARY:Mentorship Program
DESCRIPTION:
URL:http://pmbcchicago.org/event/mentorship-program/
END:VEVENT
BEGIN:VEVENT
DTSTART;TZID=America/Chicago:20250924T190000
DTEND;TZID=America/Chicago:20250924T200000
DTSTAMP:20260423T192232
CREATED:20250825T175225Z
LAST-MODIFIED:20250825T175228Z
UID:7066-1758740400-1758744000@pmbcchicago.org
SUMMARY:Worship & Word Service
DESCRIPTION:
URL:http://pmbcchicago.org/event/corporate-prayer-2-3-2-3/
END:VEVENT
END:VCALENDAR