BEGIN:VCALENDAR
VERSION:2.0
PRODID:-//Progressive M.B. Church - ECPv6.15.11//NONSGML v1.0//EN
CALSCALE:GREGORIAN
METHOD:PUBLISH
X-WR-CALNAME:Progressive M.B. Church
X-ORIGINAL-URL:http://pmbcchicago.org
X-WR-CALDESC:Events for Progressive M.B. Church
REFRESH-INTERVAL;VALUE=DURATION:PT1H
X-Robots-Tag:noindex
X-PUBLISHED-TTL:PT1H
BEGIN:VTIMEZONE
TZID:America/Chicago
BEGIN:DAYLIGHT
TZOFFSETFROM:-0600
TZOFFSETTO:-0500
TZNAME:CDT
DTSTART:20250309T080000
END:DAYLIGHT
BEGIN:STANDARD
TZOFFSETFROM:-0500
TZOFFSETTO:-0600
TZNAME:CST
DTSTART:20251102T070000
END:STANDARD
BEGIN:DAYLIGHT
TZOFFSETFROM:-0600
TZOFFSETTO:-0500
TZNAME:CDT
DTSTART:20260308T080000
END:DAYLIGHT
BEGIN:STANDARD
TZOFFSETFROM:-0500
TZOFFSETTO:-0600
TZNAME:CST
DTSTART:20261101T070000
END:STANDARD
BEGIN:DAYLIGHT
TZOFFSETFROM:-0600
TZOFFSETTO:-0500
TZNAME:CDT
DTSTART:20270314T080000
END:DAYLIGHT
BEGIN:STANDARD
TZOFFSETFROM:-0500
TZOFFSETTO:-0600
TZNAME:CST
DTSTART:20271107T070000
END:STANDARD
END:VTIMEZONE
BEGIN:VEVENT
DTSTART;TZID=America/Chicago:20260715T183000
DTEND;TZID=America/Chicago:20260715T190000
DTSTAMP:20260423T174748
CREATED:20260328T154010Z
LAST-MODIFIED:20260328T154010Z
UID:7307-1784140200-1784142000@pmbcchicago.org
SUMMARY:Corporate Prayer
DESCRIPTION:
URL:http://pmbcchicago.org/event/corporate-prayer-19/
CATEGORIES:All events,Upcoming
END:VEVENT
BEGIN:VEVENT
DTSTART;TZID=America/Chicago:20260715T190000
DTEND;TZID=America/Chicago:20260715T200000
DTSTAMP:20260423T174748
CREATED:20260328T155646Z
LAST-MODIFIED:20260328T155646Z
UID:7369-1784142000-1784145600@pmbcchicago.org
SUMMARY:Worship & Word Service
DESCRIPTION:
URL:http://pmbcchicago.org/event/worship-word-service-15/
CATEGORIES:All events,Upcoming
END:VEVENT
BEGIN:VEVENT
DTSTART;TZID=America/Chicago:20260722T183000
DTEND;TZID=America/Chicago:20260722T190000
DTSTAMP:20260423T174748
CREATED:20260328T154031Z
LAST-MODIFIED:20260328T154031Z
UID:7309-1784745000-1784746800@pmbcchicago.org
SUMMARY:Corporate Prayer
DESCRIPTION:
URL:http://pmbcchicago.org/event/corporate-prayer-20/
CATEGORIES:All events,Upcoming
END:VEVENT
BEGIN:VEVENT
DTSTART;TZID=America/Chicago:20260722T190000
DTEND;TZID=America/Chicago:20260729T200000
DTSTAMP:20260423T174748
CREATED:20260328T155731Z
LAST-MODIFIED:20260328T155731Z
UID:7373-1784746800-1785355200@pmbcchicago.org
SUMMARY:Worship & Word Service
DESCRIPTION:
URL:http://pmbcchicago.org/event/worship-word-service-17/
CATEGORIES:All events,Upcoming
END:VEVENT
BEGIN:VEVENT
DTSTART;TZID=America/Chicago:20260725T110000
DTEND;TZID=America/Chicago:20260725T120000
DTSTAMP:20260423T174748
CREATED:20260325T213339Z
LAST-MODIFIED:20260325T223218Z
UID:7220-1784977200-1784980800@pmbcchicago.org
SUMMARY:Boys & Girls Mentoring
DESCRIPTION:
URL:http://pmbcchicago.org/event/boys-girls-mentoring-4/
CATEGORIES:All events,Upcoming
END:VEVENT
BEGIN:VEVENT
DTSTART;TZID=America/Chicago:20260729T183000
DTEND;TZID=America/Chicago:20260729T190000
DTSTAMP:20260423T174748
CREATED:20260328T154051Z
LAST-MODIFIED:20260328T154051Z
UID:7311-1785349800-1785351600@pmbcchicago.org
SUMMARY:Corporate Prayer
DESCRIPTION:
URL:http://pmbcchicago.org/event/corporate-prayer-21/
CATEGORIES:All events,Upcoming
END:VEVENT
BEGIN:VEVENT
DTSTART;TZID=America/Chicago:20260729T190000
DTEND;TZID=America/Chicago:20260729T200000
DTSTAMP:20260423T174748
CREATED:20260328T155940Z
LAST-MODIFIED:20260328T162617Z
UID:7070-1785351600-1785355200@pmbcchicago.org
SUMMARY:Worship & Word Service
DESCRIPTION:
URL:http://pmbcchicago.org/event/corporate-prayer-2-3-2-4-5/
CATEGORIES:All events,Upcoming
END:VEVENT
BEGIN:VEVENT
DTSTART;TZID=America/Chicago:20260801T100000
DTEND;TZID=America/Chicago:20260801T100000
DTSTAMP:20260423T174748
CREATED:20260325T210819Z
LAST-MODIFIED:20260325T223156Z
UID:7179-1785578400-1785578400@pmbcchicago.org
SUMMARY:New Member Orientation Class
DESCRIPTION:
URL:http://pmbcchicago.org/event/new-member-orientation-class-6/
CATEGORIES:All events,Upcoming
END:VEVENT
BEGIN:VEVENT
DTSTART;TZID=America/Chicago:20260801T120000
DTEND;TZID=America/Chicago:20260801T120000
DTSTAMP:20260423T174748
CREATED:20260325T210023Z
LAST-MODIFIED:20260325T210028Z
UID:7163-1785585600-1785585600@pmbcchicago.org
SUMMARY:Baptism
DESCRIPTION:
URL:http://pmbcchicago.org/event/baptism-5/
LOCATION:Progressive MB Church\, 26 E 127th St\, Chicago\, IL\, 60628
CATEGORIES:All events,Upcoming
ATTACH;FMTTYPE=image/jpeg:http://pmbcchicago.org/wp-content/uploads/2019/09/Baptism.jpg
END:VEVENT
BEGIN:VEVENT
DTSTART;TZID=America/Chicago:20260805T183000
DTEND;TZID=America/Chicago:20260805T190000
DTSTAMP:20260423T174748
CREATED:20260328T154124Z
LAST-MODIFIED:20260328T154124Z
UID:7313-1785954600-1785956400@pmbcchicago.org
SUMMARY:Corporate Prayer
DESCRIPTION:
URL:http://pmbcchicago.org/event/corporate-prayer-22/
CATEGORIES:All events,Upcoming
END:VEVENT
BEGIN:VEVENT
DTSTART;TZID=America/Chicago:20260805T190000
DTEND;TZID=America/Chicago:20260805T200000
DTSTAMP:20260423T174748
CREATED:20260328T160010Z
LAST-MODIFIED:20260328T161910Z
UID:7378-1785956400-1785960000@pmbcchicago.org
SUMMARY:Worship & Word Service
DESCRIPTION:
URL:http://pmbcchicago.org/event/worship-word-service-18/
CATEGORIES:All events,Upcoming
END:VEVENT
BEGIN:VEVENT
DTSTART;TZID=America/Chicago:20260808T110000
DTEND;TZID=America/Chicago:20260808T150000
DTSTAMP:20260423T174748
CREATED:20260325T213120Z
LAST-MODIFIED:20260325T223134Z
UID:7216-1786186800-1786201200@pmbcchicago.org
SUMMARY:Back to School Rally
DESCRIPTION:
URL:http://pmbcchicago.org/event/back-to-school-rally-2/
CATEGORIES:All events,Upcoming
END:VEVENT
BEGIN:VEVENT
DTSTART;TZID=America/Chicago:20260809T110000
DTEND;TZID=America/Chicago:20260809T133000
DTSTAMP:20260423T174748
CREATED:20260325T213227Z
LAST-MODIFIED:20260325T223114Z
UID:7218-1786273200-1786282200@pmbcchicago.org
SUMMARY:School Spirit Sunday
DESCRIPTION:
URL:http://pmbcchicago.org/event/school-spirit-sunday-2/
CATEGORIES:All events,Upcoming
END:VEVENT
BEGIN:VEVENT
DTSTART;TZID=America/Chicago:20260812T183000
DTEND;TZID=America/Chicago:20260812T190000
DTSTAMP:20260423T174748
CREATED:20260328T154231Z
LAST-MODIFIED:20260328T154231Z
UID:7315-1786559400-1786561200@pmbcchicago.org
SUMMARY:Corporate Prayer
DESCRIPTION:
URL:http://pmbcchicago.org/event/corporate-prayer-23/
CATEGORIES:All events,Upcoming
END:VEVENT
BEGIN:VEVENT
DTSTART;TZID=America/Chicago:20260812T190000
DTEND;TZID=America/Chicago:20260812T200000
DTSTAMP:20260423T174748
CREATED:20260328T160034Z
LAST-MODIFIED:20260328T162752Z
UID:7380-1786561200-1786564800@pmbcchicago.org
SUMMARY:Worship & Word Service
DESCRIPTION:
URL:http://pmbcchicago.org/event/worship-word-service-19/
CATEGORIES:All events,Upcoming
END:VEVENT
BEGIN:VEVENT
DTSTART;TZID=America/Chicago:20260819T183000
DTEND;TZID=America/Chicago:20260819T190000
DTSTAMP:20260423T174748
CREATED:20260328T154258Z
LAST-MODIFIED:20260328T154258Z
UID:7317-1787164200-1787166000@pmbcchicago.org
SUMMARY:Corporate Prayer
DESCRIPTION:
URL:http://pmbcchicago.org/event/corporate-prayer-24/
CATEGORIES:All events,Upcoming
END:VEVENT
BEGIN:VEVENT
DTSTART;TZID=America/Chicago:20260819T190000
DTEND;TZID=America/Chicago:20260819T200000
DTSTAMP:20260423T174748
CREATED:20260328T160102Z
LAST-MODIFIED:20260328T162721Z
UID:7382-1787166000-1787169600@pmbcchicago.org
SUMMARY:Worship & Word Service
DESCRIPTION:
URL:http://pmbcchicago.org/event/worship-word-service-20/
CATEGORIES:All events,Upcoming
END:VEVENT
BEGIN:VEVENT
DTSTART;TZID=America/Chicago:20260822T110000
DTEND;TZID=America/Chicago:20260822T120000
DTSTAMP:20260423T174748
CREATED:20260325T213510Z
LAST-MODIFIED:20260325T223052Z
UID:7222-1787396400-1787400000@pmbcchicago.org
SUMMARY:Boys & Girls Mentoring
DESCRIPTION:
URL:http://pmbcchicago.org/event/boys-girls-mentoring-5/
CATEGORIES:All events,Upcoming
END:VEVENT
BEGIN:VEVENT
DTSTART;TZID=America/Chicago:20260826T183000
DTEND;TZID=America/Chicago:20260826T190000
DTSTAMP:20260423T174748
CREATED:20260328T154332Z
LAST-MODIFIED:20260328T154332Z
UID:7319-1787769000-1787770800@pmbcchicago.org
SUMMARY:Corporate Prayer
DESCRIPTION:
URL:http://pmbcchicago.org/event/corporate-prayer-25/
CATEGORIES:All events,Upcoming
END:VEVENT
BEGIN:VEVENT
DTSTART;TZID=America/Chicago:20260826T190000
DTEND;TZID=America/Chicago:20260826T200000
DTSTAMP:20260423T174748
CREATED:20260328T160123Z
LAST-MODIFIED:20260328T162647Z
UID:7384-1787770800-1787774400@pmbcchicago.org
SUMMARY:Worship & Word Service
DESCRIPTION:
URL:http://pmbcchicago.org/event/worship-word-service-21/
CATEGORIES:All events,Upcoming
END:VEVENT
BEGIN:VEVENT
DTSTART;TZID=America/Chicago:20260902T183000
DTEND;TZID=America/Chicago:20260902T190000
DTSTAMP:20260423T174748
CREATED:20260328T154403Z
LAST-MODIFIED:20260328T154403Z
UID:7321-1788373800-1788375600@pmbcchicago.org
SUMMARY:Corporate Prayer
DESCRIPTION:
URL:http://pmbcchicago.org/event/corporate-prayer-26/
CATEGORIES:All events,Upcoming
END:VEVENT
BEGIN:VEVENT
DTSTART;TZID=America/Chicago:20260902T190000
DTEND;TZID=America/Chicago:20260902T200000
DTSTAMP:20260423T174748
CREATED:20260328T160146Z
LAST-MODIFIED:20260328T162518Z
UID:7386-1788375600-1788379200@pmbcchicago.org
SUMMARY:Worship & Word Service
DESCRIPTION:
URL:http://pmbcchicago.org/event/worship-word-service-22/
CATEGORIES:All events,Upcoming
END:VEVENT
BEGIN:VEVENT
DTSTART;TZID=America/Chicago:20260905T100000
DTEND;TZID=America/Chicago:20260905T100000
DTSTAMP:20260423T174748
CREATED:20260325T210911Z
LAST-MODIFIED:20260325T223031Z
UID:7181-1788602400-1788602400@pmbcchicago.org
SUMMARY:New Member Orientation Class
DESCRIPTION:
URL:http://pmbcchicago.org/event/new-member-orientation-class-7/
CATEGORIES:All events,Upcoming
END:VEVENT
BEGIN:VEVENT
DTSTART;TZID=America/Chicago:20260905T120000
DTEND;TZID=America/Chicago:20260905T120000
DTSTAMP:20260423T174748
CREATED:20260325T210105Z
LAST-MODIFIED:20260325T210110Z
UID:7165-1788609600-1788609600@pmbcchicago.org
SUMMARY:Baptism
DESCRIPTION:
URL:http://pmbcchicago.org/event/baptism-6/
LOCATION:Progressive MB Church\, 26 E 127th St\, Chicago\, IL\, 60628
CATEGORIES:All events,Upcoming
ATTACH;FMTTYPE=image/jpeg:http://pmbcchicago.org/wp-content/uploads/2019/09/Baptism.jpg
END:VEVENT
BEGIN:VEVENT
DTSTART;TZID=America/Chicago:20260909T183000
DTEND;TZID=America/Chicago:20260909T190000
DTSTAMP:20260423T174748
CREATED:20260328T154424Z
LAST-MODIFIED:20260328T154424Z
UID:7323-1788978600-1788980400@pmbcchicago.org
SUMMARY:Corporate Prayer
DESCRIPTION:
URL:http://pmbcchicago.org/event/corporate-prayer-27/
CATEGORIES:All events,Upcoming
END:VEVENT
BEGIN:VEVENT
DTSTART;TZID=America/Chicago:20260909T190000
DTEND;TZID=America/Chicago:20260909T200000
DTSTAMP:20260423T174748
CREATED:20260328T160206Z
LAST-MODIFIED:20260328T162439Z
UID:7388-1788980400-1788984000@pmbcchicago.org
SUMMARY:Worship & Word Service
DESCRIPTION:
URL:http://pmbcchicago.org/event/worship-word-service-23/
CATEGORIES:All events,Upcoming
END:VEVENT
BEGIN:VEVENT
DTSTART;TZID=America/Chicago:20260913T110000
DTEND;TZID=America/Chicago:20260913T130000
DTSTAMP:20260423T174748
CREATED:20260325T213606Z
LAST-MODIFIED:20260325T223004Z
UID:7224-1789297200-1789304400@pmbcchicago.org
SUMMARY:Bear Down Sunday
DESCRIPTION:
URL:http://pmbcchicago.org/event/bear-down-sunday-2/
CATEGORIES:All events,Upcoming
END:VEVENT
BEGIN:VEVENT
DTSTART;TZID=America/Chicago:20260916T183000
DTEND;TZID=America/Chicago:20260916T190000
DTSTAMP:20260423T174748
CREATED:20260328T154450Z
LAST-MODIFIED:20260328T154450Z
UID:7325-1789583400-1789585200@pmbcchicago.org
SUMMARY:Corporate Prayer
DESCRIPTION:
URL:http://pmbcchicago.org/event/corporate-prayer-28/
CATEGORIES:All events,Upcoming
END:VEVENT
BEGIN:VEVENT
DTSTART;TZID=America/Chicago:20260916T190000
DTEND;TZID=America/Chicago:20260916T200000
DTSTAMP:20260423T174748
CREATED:20260328T160225Z
LAST-MODIFIED:20260328T162359Z
UID:7390-1789585200-1789588800@pmbcchicago.org
SUMMARY:Worship & Word Service
DESCRIPTION:
URL:http://pmbcchicago.org/event/worship-word-service-24/
CATEGORIES:All events,Upcoming
END:VEVENT
BEGIN:VEVENT
DTSTART;TZID=America/Chicago:20260920T110000
DTEND;TZID=America/Chicago:20260920T133000
DTSTAMP:20260423T174748
CREATED:20260325T213708Z
LAST-MODIFIED:20260325T222939Z
UID:7226-1789902000-1789911000@pmbcchicago.org
SUMMARY:83rd Church Anniversary
DESCRIPTION:
URL:http://pmbcchicago.org/event/83rd-church-anniversary/
CATEGORIES:All events,Upcoming
END:VEVENT
END:VCALENDAR