BEGIN:VCALENDAR
VERSION:2.0
PRODID:-//Progressive M.B. Church - ECPv6.15.11//NONSGML v1.0//EN
CALSCALE:GREGORIAN
METHOD:PUBLISH
X-WR-CALNAME:Progressive M.B. Church
X-ORIGINAL-URL:http://pmbcchicago.org
X-WR-CALDESC:Events for Progressive M.B. Church
REFRESH-INTERVAL;VALUE=DURATION:PT1H
X-Robots-Tag:noindex
X-PUBLISHED-TTL:PT1H
BEGIN:VTIMEZONE
TZID:America/Chicago
BEGIN:DAYLIGHT
TZOFFSETFROM:-0600
TZOFFSETTO:-0500
TZNAME:CDT
DTSTART:20240310T080000
END:DAYLIGHT
BEGIN:STANDARD
TZOFFSETFROM:-0500
TZOFFSETTO:-0600
TZNAME:CST
DTSTART:20241103T070000
END:STANDARD
BEGIN:DAYLIGHT
TZOFFSETFROM:-0600
TZOFFSETTO:-0500
TZNAME:CDT
DTSTART:20250309T080000
END:DAYLIGHT
BEGIN:STANDARD
TZOFFSETFROM:-0500
TZOFFSETTO:-0600
TZNAME:CST
DTSTART:20251102T070000
END:STANDARD
BEGIN:DAYLIGHT
TZOFFSETFROM:-0600
TZOFFSETTO:-0500
TZNAME:CDT
DTSTART:20260308T080000
END:DAYLIGHT
BEGIN:STANDARD
TZOFFSETFROM:-0500
TZOFFSETTO:-0600
TZNAME:CST
DTSTART:20261101T070000
END:STANDARD
END:VTIMEZONE
BEGIN:VEVENT
DTSTART;TZID=America/Chicago:20251203T183000
DTEND;TZID=America/Chicago:20251203T190000
DTSTAMP:20260423T155934
CREATED:20250825T174613Z
LAST-MODIFIED:20250825T174628Z
UID:7054-1764786600-1764788400@pmbcchicago.org
SUMMARY:Corporate Prayer
DESCRIPTION:
URL:http://pmbcchicago.org/event/corporate-prayer-3-12/
END:VEVENT
BEGIN:VEVENT
DTSTART;TZID=America/Chicago:20251203T190000
DTEND;TZID=America/Chicago:20251203T200000
DTSTAMP:20260423T155935
CREATED:20250825T175937Z
LAST-MODIFIED:20250825T175940Z
UID:7087-1764788400-1764792000@pmbcchicago.org
SUMMARY:Worship & Word Service
DESCRIPTION:
URL:http://pmbcchicago.org/event/corporate-prayer-2-3-2-4-4-2-2-2-2-2/
END:VEVENT
BEGIN:VEVENT
DTSTART;TZID=America/Chicago:20251206T100000
DTEND;TZID=America/Chicago:20251206T120000
DTSTAMP:20260423T155935
CREATED:20250823T180446Z
LAST-MODIFIED:20250823T180643Z
UID:6968-1765015200-1765022400@pmbcchicago.org
SUMMARY:New Membership Orientation
DESCRIPTION:Welcome to the Family!\n To become an official member of the church\, all new members are required to attend this one-day orientation class. You’ll learn about our mission\, beliefs\, and ways to get connected.  \nClasses are held monthly.  No registration needed—just show up!  \nWe look forward to seeing you there.
URL:http://pmbcchicago.org/event/new-membership-orientation-2-2/
END:VEVENT
BEGIN:VEVENT
DTSTART;TZID=America/Chicago:20251206T120000
DTEND;TZID=America/Chicago:20251206T130000
DTSTAMP:20260423T155935
CREATED:20250825T171923Z
LAST-MODIFIED:20250825T171932Z
UID:7013-1765022400-1765026000@pmbcchicago.org
SUMMARY:Baptism
DESCRIPTION:Monthly Baptism ServiceCelebrate new life in Christ at our monthly baptism service! This special time of worship is dedicated to those publicly declaring their faith and commitment to Jesus.  \nJoin us as we support and rejoice with our brothers and sisters taking this important step in their spiritual journey.  \nAll are welcome to attend and celebrate!
URL:http://pmbcchicago.org/event/baptism-noon-2-2-3/
END:VEVENT
BEGIN:VEVENT
DTSTART;VALUE=DATE:20251207
DTEND;VALUE=DATE:20251208
DTSTAMP:20260423T155935
CREATED:20250825T171124Z
LAST-MODIFIED:20250825T171126Z
UID:7008-1765065600-1765151999@pmbcchicago.org
SUMMARY:Membership Day
DESCRIPTION:
URL:http://pmbcchicago.org/event/membership-day/
END:VEVENT
BEGIN:VEVENT
DTSTART;TZID=America/Chicago:20251210T183000
DTEND;TZID=America/Chicago:20251210T190000
DTSTAMP:20260423T155935
CREATED:20250825T174652Z
LAST-MODIFIED:20250825T174702Z
UID:7056-1765391400-1765393200@pmbcchicago.org
SUMMARY:Corporate Prayer
DESCRIPTION:
URL:http://pmbcchicago.org/event/corporate-prayer-3-13/
END:VEVENT
BEGIN:VEVENT
DTSTART;TZID=America/Chicago:20251210T190000
DTEND;TZID=America/Chicago:20251210T200000
DTSTAMP:20260423T155935
CREATED:20250825T175958Z
LAST-MODIFIED:20250825T180002Z
UID:7089-1765393200-1765396800@pmbcchicago.org
SUMMARY:Worship & Word Service
DESCRIPTION:
URL:http://pmbcchicago.org/event/corporate-prayer-2-3-2-4-4-2-2-2-2-2-2/
END:VEVENT
BEGIN:VEVENT
DTSTART;TZID=America/Chicago:20251217T183000
DTEND;TZID=America/Chicago:20251217T190000
DTSTAMP:20260423T155935
CREATED:20250825T174723Z
LAST-MODIFIED:20250825T174726Z
UID:7058-1765996200-1765998000@pmbcchicago.org
SUMMARY:Corporate Prayer
DESCRIPTION:
URL:http://pmbcchicago.org/event/corporate-prayer-3-14/
END:VEVENT
BEGIN:VEVENT
DTSTART;TZID=America/Chicago:20251217T190000
DTEND;TZID=America/Chicago:20251217T200000
DTSTAMP:20260423T155935
CREATED:20250825T180019Z
LAST-MODIFIED:20250825T180021Z
UID:7091-1765998000-1766001600@pmbcchicago.org
SUMMARY:Worship & Word Service
DESCRIPTION:
URL:http://pmbcchicago.org/event/corporate-prayer-2-3-2-4-4-2-2-2-2-2-2-2/
END:VEVENT
BEGIN:VEVENT
DTSTART;TZID=America/Chicago:20251221T093000
DTEND;TZID=America/Chicago:20251221T103000
DTSTAMP:20260423T155935
CREATED:20250825T170807Z
LAST-MODIFIED:20250825T181653Z
UID:7004-1766309400-1766313000@pmbcchicago.org
SUMMARY:Christmas Program
DESCRIPTION:
URL:http://pmbcchicago.org/event/christmas-program/
END:VEVENT
BEGIN:VEVENT
DTSTART;TZID=America/Chicago:20251231T190000
DTEND;TZID=America/Chicago:20251231T210000
DTSTAMP:20260423T155935
CREATED:20250825T170913Z
LAST-MODIFIED:20250825T170916Z
UID:7006-1767207600-1767214800@pmbcchicago.org
SUMMARY:New Years Eve Service
DESCRIPTION:
URL:http://pmbcchicago.org/event/new-years-eve-service-2/
END:VEVENT
END:VCALENDAR