BEGIN:VCALENDAR
VERSION:2.0
PRODID:-//Progressive M.B. Church - ECPv6.15.11//NONSGML v1.0//EN
CALSCALE:GREGORIAN
METHOD:PUBLISH
X-WR-CALNAME:Progressive M.B. Church
X-ORIGINAL-URL:http://pmbcchicago.org
X-WR-CALDESC:Events for Progressive M.B. Church
REFRESH-INTERVAL;VALUE=DURATION:PT1H
X-Robots-Tag:noindex
X-PUBLISHED-TTL:PT1H
BEGIN:VTIMEZONE
TZID:America/Chicago
BEGIN:DAYLIGHT
TZOFFSETFROM:-0600
TZOFFSETTO:-0500
TZNAME:CDT
DTSTART:20250309T080000
END:DAYLIGHT
BEGIN:STANDARD
TZOFFSETFROM:-0500
TZOFFSETTO:-0600
TZNAME:CST
DTSTART:20251102T070000
END:STANDARD
BEGIN:DAYLIGHT
TZOFFSETFROM:-0600
TZOFFSETTO:-0500
TZNAME:CDT
DTSTART:20260308T080000
END:DAYLIGHT
BEGIN:STANDARD
TZOFFSETFROM:-0500
TZOFFSETTO:-0600
TZNAME:CST
DTSTART:20261101T070000
END:STANDARD
BEGIN:DAYLIGHT
TZOFFSETFROM:-0600
TZOFFSETTO:-0500
TZNAME:CDT
DTSTART:20270314T080000
END:DAYLIGHT
BEGIN:STANDARD
TZOFFSETFROM:-0500
TZOFFSETTO:-0600
TZNAME:CST
DTSTART:20271107T070000
END:STANDARD
END:VTIMEZONE
BEGIN:VEVENT
DTSTART;TZID=America/Chicago:20261003T100000
DTEND;TZID=America/Chicago:20261003T100000
DTSTAMP:20260423T203537
CREATED:20260325T211000Z
LAST-MODIFIED:20260325T222847Z
UID:7183-1791021600-1791021600@pmbcchicago.org
SUMMARY:New Member Orientation Class
DESCRIPTION:
URL:http://pmbcchicago.org/event/new-member-orientation-class-8/
CATEGORIES:All events,Upcoming
END:VEVENT
BEGIN:VEVENT
DTSTART;TZID=America/Chicago:20261003T120000
DTEND;TZID=America/Chicago:20261003T120000
DTSTAMP:20260423T203537
CREATED:20260325T210141Z
LAST-MODIFIED:20260325T210147Z
UID:7167-1791028800-1791028800@pmbcchicago.org
SUMMARY:Baptism
DESCRIPTION:
URL:http://pmbcchicago.org/event/baptism-7/
LOCATION:Progressive MB Church\, 26 E 127th St\, Chicago\, IL\, 60628
CATEGORIES:All events,Upcoming
ATTACH;FMTTYPE=image/jpeg:http://pmbcchicago.org/wp-content/uploads/2019/09/Baptism.jpg
END:VEVENT
BEGIN:VEVENT
DTSTART;TZID=America/Chicago:20261007T183000
DTEND;TZID=America/Chicago:20261007T190000
DTSTAMP:20260423T203537
CREATED:20260328T154613Z
LAST-MODIFIED:20260328T154613Z
UID:7329-1791397800-1791399600@pmbcchicago.org
SUMMARY:Corporate Prayer
DESCRIPTION:
URL:http://pmbcchicago.org/event/corporate-prayer-30/
CATEGORIES:All events,Upcoming
END:VEVENT
BEGIN:VEVENT
DTSTART;TZID=America/Chicago:20261007T190000
DTEND;TZID=America/Chicago:20261007T200000
DTSTAMP:20260423T203537
CREATED:20260328T160337Z
LAST-MODIFIED:20260328T162240Z
UID:7396-1791399600-1791403200@pmbcchicago.org
SUMMARY:Worship & Word Service
DESCRIPTION:
URL:http://pmbcchicago.org/event/worship-word-service-27/
CATEGORIES:All events,Upcoming
END:VEVENT
BEGIN:VEVENT
DTSTART;TZID=America/Chicago:20261010T110000
DTEND;TZID=America/Chicago:20261010T130000
DTSTAMP:20260423T203537
CREATED:20260325T213923Z
LAST-MODIFIED:20260325T222830Z
UID:7232-1791630000-1791637200@pmbcchicago.org
SUMMARY:Men's Reconnect
DESCRIPTION:
URL:http://pmbcchicago.org/event/mens-reconnect/
CATEGORIES:All events,Upcoming
END:VEVENT
BEGIN:VEVENT
DTSTART;TZID=America/Chicago:20261011T110000
DTEND;TZID=America/Chicago:20261011T133000
DTSTAMP:20260423T203537
CREATED:20260325T214007Z
LAST-MODIFIED:20260325T222814Z
UID:7235-1791716400-1791725400@pmbcchicago.org
SUMMARY:Men's Day
DESCRIPTION:
URL:http://pmbcchicago.org/event/mens-day-2/
CATEGORIES:All events,Upcoming
END:VEVENT
BEGIN:VEVENT
DTSTART;TZID=America/Chicago:20261014T183000
DTEND;TZID=America/Chicago:20261014T190000
DTSTAMP:20260423T203537
CREATED:20260328T154641Z
LAST-MODIFIED:20260328T154641Z
UID:7330-1792002600-1792004400@pmbcchicago.org
SUMMARY:Corporate Prayer
DESCRIPTION:
URL:http://pmbcchicago.org/event/corporate-prayer-31/
CATEGORIES:All events,Upcoming
END:VEVENT
BEGIN:VEVENT
DTSTART;TZID=America/Chicago:20261014T190000
DTEND;TZID=America/Chicago:20261014T200000
DTSTAMP:20260423T203537
CREATED:20260328T160359Z
LAST-MODIFIED:20260328T161932Z
UID:7398-1792004400-1792008000@pmbcchicago.org
SUMMARY:Worship & Word Service
DESCRIPTION:
URL:http://pmbcchicago.org/event/worship-word-service-28/
CATEGORIES:All events,Upcoming
END:VEVENT
BEGIN:VEVENT
DTSTART;TZID=America/Chicago:20261018T110000
DTEND;TZID=America/Chicago:20261018T133000
DTSTAMP:20260423T203537
CREATED:20260325T214055Z
LAST-MODIFIED:20260325T222758Z
UID:7237-1792321200-1792330200@pmbcchicago.org
SUMMARY:Pink Sunday
DESCRIPTION:
URL:http://pmbcchicago.org/event/pink-sunday-2/
CATEGORIES:All events,Upcoming
END:VEVENT
BEGIN:VEVENT
DTSTART;TZID=America/Chicago:20261021T183000
DTEND;TZID=America/Chicago:20261021T190000
DTSTAMP:20260423T203537
CREATED:20260328T154702Z
LAST-MODIFIED:20260328T154702Z
UID:7333-1792607400-1792609200@pmbcchicago.org
SUMMARY:Corporate Prayer
DESCRIPTION:
URL:http://pmbcchicago.org/event/corporate-prayer-32/
CATEGORIES:All events,Upcoming
END:VEVENT
BEGIN:VEVENT
DTSTART;TZID=America/Chicago:20261021T190000
DTEND;TZID=America/Chicago:20261021T200000
DTSTAMP:20260423T203537
CREATED:20260328T160429Z
LAST-MODIFIED:20260328T160429Z
UID:7400-1792609200-1792612800@pmbcchicago.org
SUMMARY:Worship & Word Service
DESCRIPTION:
URL:http://pmbcchicago.org/event/worship-word-service-29/
CATEGORIES:All events,Upcoming
END:VEVENT
BEGIN:VEVENT
DTSTART;TZID=America/Chicago:20261024T150000
DTEND;TZID=America/Chicago:20261024T170000
DTSTAMP:20260423T203537
CREATED:20260325T211358Z
LAST-MODIFIED:20260325T222742Z
UID:7190-1792854000-1792861200@pmbcchicago.org
SUMMARY:Trunk or Treat
DESCRIPTION:
URL:http://pmbcchicago.org/event/trunk-or-treat-3/
CATEGORIES:All events,Upcoming
END:VEVENT
BEGIN:VEVENT
DTSTART;TZID=America/Chicago:20261028T183000
DTEND;TZID=America/Chicago:20261028T190000
DTSTAMP:20260423T203537
CREATED:20260328T154725Z
LAST-MODIFIED:20260328T154725Z
UID:7335-1793212200-1793214000@pmbcchicago.org
SUMMARY:Corporate Prayer
DESCRIPTION:
URL:http://pmbcchicago.org/event/corporate-prayer-33/
CATEGORIES:All events,Upcoming
END:VEVENT
BEGIN:VEVENT
DTSTART;TZID=America/Chicago:20261028T190000
DTEND;TZID=America/Chicago:20261028T200000
DTSTAMP:20260423T203537
CREATED:20260328T160450Z
LAST-MODIFIED:20260328T160450Z
UID:7402-1793214000-1793217600@pmbcchicago.org
SUMMARY:Worship & Word Service
DESCRIPTION:
URL:http://pmbcchicago.org/event/worship-word-service-30/
CATEGORIES:All events,Upcoming
END:VEVENT
BEGIN:VEVENT
DTSTART;TZID=America/Chicago:20261031T100000
DTEND;TZID=America/Chicago:20261031T100000
DTSTAMP:20260423T203537
CREATED:20260325T211030Z
LAST-MODIFIED:20260325T222727Z
UID:7185-1793440800-1793440800@pmbcchicago.org
SUMMARY:New Member Orientation Class
DESCRIPTION:
URL:http://pmbcchicago.org/event/new-member-orientation-class-9/
CATEGORIES:All events,Upcoming
END:VEVENT
BEGIN:VEVENT
DTSTART;TZID=America/Chicago:20261031T120000
DTEND;TZID=America/Chicago:20261031T120000
DTSTAMP:20260423T203537
CREATED:20260325T210224Z
LAST-MODIFIED:20260325T210231Z
UID:7169-1793448000-1793448000@pmbcchicago.org
SUMMARY:Baptism
DESCRIPTION:
URL:http://pmbcchicago.org/event/baptism-8/
LOCATION:Progressive MB Church\, 26 E 127th St\, Chicago\, IL\, 60628
CATEGORIES:All events,Upcoming
ATTACH;FMTTYPE=image/jpeg:http://pmbcchicago.org/wp-content/uploads/2019/09/Baptism.jpg
END:VEVENT
END:VCALENDAR