BEGIN:VCALENDAR
VERSION:2.0
PRODID:-//Progressive M.B. Church - ECPv6.15.11//NONSGML v1.0//EN
CALSCALE:GREGORIAN
METHOD:PUBLISH
X-WR-CALNAME:Progressive M.B. Church
X-ORIGINAL-URL:https://pmbcchicago.org
X-WR-CALDESC:Events for Progressive M.B. Church
REFRESH-INTERVAL;VALUE=DURATION:PT1H
X-Robots-Tag:noindex
X-PUBLISHED-TTL:PT1H
BEGIN:VTIMEZONE
TZID:America/Chicago
BEGIN:DAYLIGHT
TZOFFSETFROM:-0600
TZOFFSETTO:-0500
TZNAME:CDT
DTSTART:20180311T080000
END:DAYLIGHT
BEGIN:STANDARD
TZOFFSETFROM:-0500
TZOFFSETTO:-0600
TZNAME:CST
DTSTART:20181104T070000
END:STANDARD
BEGIN:DAYLIGHT
TZOFFSETFROM:-0600
TZOFFSETTO:-0500
TZNAME:CDT
DTSTART:20190310T080000
END:DAYLIGHT
BEGIN:STANDARD
TZOFFSETFROM:-0500
TZOFFSETTO:-0600
TZNAME:CST
DTSTART:20191103T070000
END:STANDARD
BEGIN:DAYLIGHT
TZOFFSETFROM:-0600
TZOFFSETTO:-0500
TZNAME:CDT
DTSTART:20200308T080000
END:DAYLIGHT
BEGIN:STANDARD
TZOFFSETFROM:-0500
TZOFFSETTO:-0600
TZNAME:CST
DTSTART:20201101T070000
END:STANDARD
END:VTIMEZONE
BEGIN:VEVENT
DTSTART;TZID=America/Chicago:20191128T100000
DTEND;TZID=America/Chicago:20191128T110000
DTSTAMP:20260423T165953
CREATED:20191113T182203Z
LAST-MODIFIED:20191113T182340Z
UID:4995-1574935200-1574938800@pmbcchicago.org
SUMMARY:Thanksgiving Day Service
DESCRIPTION:Come give thanks in worship before you break bread with family and friends!
URL:https://pmbcchicago.org/event/thanksgiving-day-service/
LOCATION:Progressive M.B. Church\, 26 E. 127th St\, Chicago\, IL\, 60628\, United States
CATEGORIES:All events,Upcoming
ATTACH;FMTTYPE=image/jpeg:https://pmbcchicago.org/wp-content/uploads/2019/11/Thanksgiving-Day-2019-Service.jpg
END:VEVENT
BEGIN:VEVENT
DTSTART;TZID=America/Chicago:20191110T110000
DTEND;TZID=America/Chicago:20191110T110000
DTSTAMP:20260423T165953
CREATED:20191023T164254Z
LAST-MODIFIED:20191023T164852Z
UID:4988-1573383600-1573383600@pmbcchicago.org
SUMMARY:Rev. Warren Woods\, Jr.'s 4th Pastoral Anniversary - Sunday\, 11/10/19
DESCRIPTION:Please come out and help us celebrate our wonderful Pastor’s 4th Anniversary here at Progressive Missionary Baptist Church! Sunday\, November 10\, 2019 at 11am.
URL:https://pmbcchicago.org/event/rev-warren-woods-jr-s-4th-pastoral-anniversary-2/
LOCATION:Progressive M.B. Church\, 26 E. 127th St\, Chicago\, IL\, 60628\, United States
CATEGORIES:All events,Upcoming
ATTACH;FMTTYPE=image/jpeg:https://pmbcchicago.org/wp-content/uploads/2019/10/WWJr4thAnn.jpg
END:VEVENT
BEGIN:VEVENT
DTSTART;TZID=America/Chicago:20191106T190000
DTEND;TZID=America/Chicago:20191106T190000
DTSTAMP:20260423T165953
CREATED:20191023T165146Z
LAST-MODIFIED:20191023T165146Z
UID:4990-1573066800-1573066800@pmbcchicago.org
SUMMARY:Rev. Warren Woods\, Jr.'s 4th Pastoral Anniversary - Wednesday 11/6/19
DESCRIPTION:Please come out and help us celebrate our wonderful Pastor’s 4th Anniversary here at Progressive Missionary Baptist Church!  Wednesday\, November 6\, 2019 at 7pm.
URL:https://pmbcchicago.org/event/rev-warren-woods-jr-s-4th-pastoral-anniversary/
LOCATION:Progressive M.B. Church\, 26 E. 127th St\, Chicago\, IL\, 60628\, United States
CATEGORIES:All events,Upcoming
ATTACH;FMTTYPE=image/jpeg:https://pmbcchicago.org/wp-content/uploads/2019/10/WWJr4thAnn.jpg
END:VEVENT
BEGIN:VEVENT
DTSTART;TZID=America/Chicago:20191026T160000
DTEND;TZID=America/Chicago:20191026T190000
DTSTAMP:20260423T165953
CREATED:20191023T163549Z
LAST-MODIFIED:20191023T163549Z
UID:4986-1572105600-1572116400@pmbcchicago.org
SUMMARY:Trunk or Treat
DESCRIPTION:Bring the kids out for food\, fun\, games and CANDY!  Costumes are encouraged\, but NO SCARY COSTUMES.
URL:https://pmbcchicago.org/event/trunk-or-treat/
LOCATION:Progressive M.B. Church\, 26 E. 127th St\, Chicago\, IL\, 60628\, United States
CATEGORIES:All events,Upcoming
ATTACH;FMTTYPE=image/jpeg:https://pmbcchicago.org/wp-content/uploads/2019/10/Trunk-or-Treat.jpg
END:VEVENT
BEGIN:VEVENT
DTSTART;VALUE=DATE:20191020
DTEND;VALUE=DATE:20191021
DTSTAMP:20260423T165953
CREATED:20190926T171138Z
LAST-MODIFIED:20190926T171138Z
UID:4946-1571529600-1571615999@pmbcchicago.org
SUMMARY:PMBC Pink Sunday
DESCRIPTION:We’re celebrating and encouraging breast cancer warriors by wearing PINK!
URL:https://pmbcchicago.org/event/pmbc-pink-sunday/
LOCATION:Progressive MB Church\, 26 E 127th St\, Chicago\, IL\, 60628
CATEGORIES:All events,Upcoming
ATTACH;FMTTYPE=image/jpeg:https://pmbcchicago.org/wp-content/uploads/2019/09/Pink-Sunday-2019.jpg
END:VEVENT
BEGIN:VEVENT
DTSTART;TZID=America/Chicago:20191019T110000
DTEND;TZID=America/Chicago:20191019T110000
DTSTAMP:20260423T165953
CREATED:20191004T034716Z
LAST-MODIFIED:20191004T034716Z
UID:4943-1571482800-1571482800@pmbcchicago.org
SUMMARY:PMBC Singles Session
DESCRIPTION:???\nIt doesn’t have to be a bad thing! All the single ladies (AND GENTLEMEN!) need to be here for this session with our Pastor. \nRSVP to:  admin@pmbcchicago.org ~OR~  773.978.8889 \n 
URL:https://pmbcchicago.org/event/pmbc-singles-session/
LOCATION:Progressive M.B. Church\, 26 E. 127th St\, Chicago\, IL\, 60628\, United States
CATEGORIES:All events,Upcoming
ATTACH;FMTTYPE=image/jpeg:https://pmbcchicago.org/wp-content/uploads/2019/09/Singles-Session-2019.jpg
END:VEVENT
BEGIN:VEVENT
DTSTART;TZID=America/Chicago:20191012T093000
DTEND;TZID=America/Chicago:20191012T110000
DTSTAMP:20260423T165953
CREATED:20191001T120007Z
LAST-MODIFIED:20191004T021821Z
UID:4940-1570872600-1570878000@pmbcchicago.org
SUMMARY:PMBC Men's Prayer Breakfast
DESCRIPTION:Come have some good food and fellowship with the other Men of PMBC!
URL:https://pmbcchicago.org/event/pmbc-mens-prayer-breakfast/
LOCATION:Progressive MB Church\, 26 E 127th St\, Chicago\, IL\, 60628
CATEGORIES:All events,Upcoming
ATTACH;FMTTYPE=image/jpeg:https://pmbcchicago.org/wp-content/uploads/2019/09/Mens-Prayer-Breakfast.jpg
END:VEVENT
BEGIN:VEVENT
DTSTART;VALUE=DATE:20190929
DTEND;VALUE=DATE:20190930
DTSTAMP:20260423T165953
CREATED:20190926T174517Z
LAST-MODIFIED:20190926T174517Z
UID:4954-1569715200-1569801599@pmbcchicago.org
SUMMARY:Baptism Sunday
DESCRIPTION:The last Sunday of every month is Baptism Sunday!  We’re EXCITED about welcoming new members to the family of Christ!
URL:https://pmbcchicago.org/event/baptism-sunday/
LOCATION:Progressive MB Church\, 26 E 127th St\, Chicago\, IL\, 60628
CATEGORIES:All events,Upcoming
ATTACH;FMTTYPE=image/jpeg:https://pmbcchicago.org/wp-content/uploads/2019/09/Baptism.jpg
END:VEVENT
BEGIN:VEVENT
DTSTART;TZID=America/Chicago:20190915T150000
DTEND;TZID=America/Chicago:20190915T150000
DTSTAMP:20260423T165953
CREATED:20190815T172506Z
LAST-MODIFIED:20190815T172506Z
UID:4927-1568559600-1568559600@pmbcchicago.org
SUMMARY:PMBC's 76th Anniversary - Sunday Afternoon Service
DESCRIPTION:Theme:\n“A Church Conformed to Christ’s Image”\nServices will be held\nWednesday 9/11/19 at 7:00pm\n&\nSunday 9/15/19 at 3:00pm \nWe hope you can make it!
URL:https://pmbcchicago.org/event/pmbcs-76th-anniversary-sunday-afternoon-service/
LOCATION:Progressive M.B. Church\, 26 E. 127th St\, Chicago\, IL\, 60628\, United States
CATEGORIES:All events,Upcoming
ATTACH;FMTTYPE=image/jpeg:https://pmbcchicago.org/wp-content/uploads/2019/08/76th-Anniversary.jpg
END:VEVENT
BEGIN:VEVENT
DTSTART;TZID=America/Chicago:20190911T190000
DTEND;TZID=America/Chicago:20190911T190000
DTSTAMP:20260423T165953
CREATED:20190815T171651Z
LAST-MODIFIED:20190815T172914Z
UID:4921-1568228400-1568228400@pmbcchicago.org
SUMMARY:PMBC's 76th Anniversary - Wednesday Evening Service
DESCRIPTION:Theme:\n“A Church Conformed to Christ’s Image”\nServices will be held\nWednesday 9/11/19 at 7:00pm\n&\nSunday 9/15/19 at 3:00pm \nWe hope you can make it!
URL:https://pmbcchicago.org/event/pmbcs-76th-anniversary/
LOCATION:Progressive M.B. Church\, 26 E. 127th St\, Chicago\, IL\, 60628\, United States
CATEGORIES:All events,Upcoming
ATTACH;FMTTYPE=image/jpeg:https://pmbcchicago.org/wp-content/uploads/2019/08/76th-Anniversary.jpg
END:VEVENT
BEGIN:VEVENT
DTSTART;TZID=America/Chicago:20190825T153000
DTEND;TZID=America/Chicago:20190825T153000
DTSTAMP:20260423T165953
CREATED:20190731T222934Z
LAST-MODIFIED:20190815T170516Z
UID:4899-1566747000-1566747000@pmbcchicago.org
SUMMARY:PMBC Gospel Concert
DESCRIPTION:The Progressive M.B Church Music & Arts Ministry will be presenting in concert on Sunday\, August 25 at 3:30pm. \nOur special guest will be National Recording Artist\, Minster Tim White \nPlease join us as we worship the Lord in songs and dance of praise!
URL:https://pmbcchicago.org/event/pmbc-gospel-concert/
CATEGORIES:All events,Upcoming
ATTACH;FMTTYPE=image/jpeg:https://pmbcchicago.org/wp-content/uploads/2019/08/PMBC-Choir-Concert-Plugger2.jpg
END:VEVENT
BEGIN:VEVENT
DTSTART;TZID=America/Chicago:20190818T110000
DTEND;TZID=America/Chicago:20190818T130000
DTSTAMP:20260423T165953
CREATED:20190815T170103Z
LAST-MODIFIED:20190815T171401Z
UID:4916-1566126000-1566133200@pmbcchicago.org
SUMMARY:Women's Day
DESCRIPTION:Attention all Winning Women: \nPut on your red\, black and white and join us Sunday\, August 18th!
URL:https://pmbcchicago.org/event/womens-day/
LOCATION:Progressive M.B. Church\, 26 E. 127th St\, Chicago\, IL\, 60628\, United States
CATEGORIES:All events,Upcoming
ATTACH;FMTTYPE=image/jpeg:https://pmbcchicago.org/wp-content/uploads/2019/08/Womens-Day-2018.jpg
END:VEVENT
BEGIN:VEVENT
DTSTART;TZID=America/Chicago:20190811T110000
DTEND;TZID=America/Chicago:20190811T110000
DTSTAMP:20260423T165953
CREATED:20190801T192252Z
LAST-MODIFIED:20190801T192252Z
UID:4911-1565521200-1565521200@pmbcchicago.org
SUMMARY:School Spirit Sunday
DESCRIPTION:Join us for our 11:00am morning worship service and show your SCHOOL SPIRIT by wearing clothing or colors that represent your elementary school\, high school\, college or Greek affiliation
URL:https://pmbcchicago.org/event/school-spirit-sunday/
LOCATION:Progressive M.B. Church\, 26 E. 127th St\, Chicago\, IL\, 60628\, United States
CATEGORIES:All events,Upcoming
ATTACH;FMTTYPE=image/jpeg:https://pmbcchicago.org/wp-content/uploads/2019/08/School-spirit-sunday.jpg
END:VEVENT
BEGIN:VEVENT
DTSTART;TZID=America/Chicago:20190615T100000
DTEND;TZID=America/Chicago:20190615T120000
DTSTAMP:20260423T165953
CREATED:20190605T174705Z
LAST-MODIFIED:20190606T170450Z
UID:4885-1560592800-1560600000@pmbcchicago.org
SUMMARY:Men of PMBC Father's Day Breakfast
DESCRIPTION:Celebrating Father’s Day with the Men of Progressive!
URL:https://pmbcchicago.org/event/men-of-pmbc-fathers-day-breakfast/
LOCATION:Progressive M.B. Church\, 26 E. 127th St\, Chicago\, IL\, 60628\, United States
CATEGORIES:All events,Upcoming
ATTACH;FMTTYPE=image/jpeg:https://pmbcchicago.org/wp-content/uploads/2019/06/fathers-day-breakfast.jpg
END:VEVENT
BEGIN:VEVENT
DTSTART;TZID=America/Chicago:20190609T110000
DTEND;TZID=America/Chicago:20190609T130000
DTSTAMP:20260423T165953
CREATED:20190606T170227Z
LAST-MODIFIED:20190606T170228Z
UID:4887-1560078000-1560085200@pmbcchicago.org
SUMMARY:PMBC Youth Day
DESCRIPTION:
URL:https://pmbcchicago.org/event/pmbc-youth-day/
LOCATION:Progressive M.B. Church\, 26 E. 127th St\, Chicago\, IL\, 60628\, United States
CATEGORIES:All events,Upcoming
ATTACH;FMTTYPE=image/jpeg:https://pmbcchicago.org/wp-content/uploads/2019/06/youth-day.jpg
END:VEVENT
BEGIN:VEVENT
DTSTART;TZID=America/Chicago:20190601T080000
DTEND;TZID=America/Chicago:20190601T080000
DTSTAMP:20260423T165953
CREATED:20190508T154813Z
LAST-MODIFIED:20190508T163537Z
UID:4874-1559376000-1559376000@pmbcchicago.org
SUMMARY:Gospel Run!
DESCRIPTION:Don’t forget to sign up for the Chicago Gospel Walk/Run! It’s Saturday\, June 1st this year. Go to Gospelrun.com and look for team “PMBC Chicago”!
URL:https://pmbcchicago.org/event/gospel-run/
LOCATION:41st Street Beach\, Chicago\, IL\, 4100 S. Lake Shore Drive\, Chicago\, IL\, 60653\, United States
CATEGORIES:All events,Upcoming
ATTACH;FMTTYPE=image/jpeg:https://pmbcchicago.org/wp-content/uploads/2019/05/Gospel-Run.jpg
END:VEVENT
BEGIN:VEVENT
DTSTART;TZID=America/Chicago:20190512T110000
DTEND;TZID=America/Chicago:20190512T110000
DTSTAMP:20260423T165953
CREATED:20190506T165447Z
LAST-MODIFIED:20190508T163333Z
UID:4870-1557658800-1557658800@pmbcchicago.org
SUMMARY:Mother's Day / Crown Sunday
DESCRIPTION:Ladies of Progressive\, Mother’s Day is Crown Sunday!! Wear your best church hat and show us your crown!
URL:https://pmbcchicago.org/event/mothers-day-crown-sunday/
LOCATION:Progressive M.B. Church\, 26 E. 127th St\, Chicago\, IL\, 60628\, United States
CATEGORIES:All events,Upcoming
ATTACH;FMTTYPE=image/jpeg:https://pmbcchicago.org/wp-content/uploads/2019/05/Crown-Sunday.jpg
END:VEVENT
BEGIN:VEVENT
DTSTART;TZID=America/Chicago:20190428T110000
DTEND;TZID=America/Chicago:20190428T130000
DTSTAMP:20260423T165953
CREATED:20190415T174106Z
LAST-MODIFIED:20190417T150243Z
UID:4857-1556449200-1556456400@pmbcchicago.org
SUMMARY:Friends & Family Day 2019
DESCRIPTION:Come out and worship the Lord with family and friends at PMBC!
URL:https://pmbcchicago.org/event/friends-family-day-2019/
LOCATION:Progressive M.B. Church\, 26 E. 127th St\, Chicago\, IL\, 60628\, United States
CATEGORIES:All events,Upcoming
ATTACH;FMTTYPE=image/png:https://pmbcchicago.org/wp-content/uploads/2019/04/Family-Friends-Day-2019.png
END:VEVENT
BEGIN:VEVENT
DTSTART;TZID=America/Chicago:20190427T120000
DTEND;TZID=America/Chicago:20190427T133000
DTSTAMP:20260423T165953
CREATED:20190422T163909Z
LAST-MODIFIED:20190422T163910Z
UID:4861-1556366400-1556371800@pmbcchicago.org
SUMMARY:PMBC Men vs. Boys Basketball Game
DESCRIPTION:http://pmbcchicago.org/wp-content/uploads/2019/04/PMBC-b-ball.mp4
URL:https://pmbcchicago.org/event/pmbc-men-vs-boys-basketball-game/
LOCATION:The Salvation Army Kroc Center Chicago\, 1250 W. 199th Street\, Chicago\, IL\, 60643\, United States
CATEGORIES:All events,Upcoming
END:VEVENT
BEGIN:VEVENT
DTSTART;TZID=America/Chicago:20190426T190000
DTEND;TZID=America/Chicago:20190426T190000
DTSTAMP:20260423T165953
CREATED:20190422T172253Z
LAST-MODIFIED:20190422T172627Z
UID:4865-1556305200-1556305200@pmbcchicago.org
SUMMARY:Church Engagement - Living Water Baptist Church
DESCRIPTION:
URL:https://pmbcchicago.org/event/church-engagement-living-water-baptist-church/
LOCATION:Living Water Baptist Church\, 120 E. 87th Street\, Chicago\, IL\, United States
CATEGORIES:All events,Upcoming
END:VEVENT
END:VCALENDAR